BEGIN:VCALENDAR
VERSION:2.0
PRODID:-//Evangelische Kirche - ECPv6.3.5//NONSGML v1.0//EN
CALSCALE:GREGORIAN
METHOD:PUBLISH
X-WR-CALNAME:Evangelische Kirche
X-ORIGINAL-URL:https://www.sichtbar-evangelisch.at
X-WR-CALDESC:Veranstaltungen für Evangelische Kirche
REFRESH-INTERVAL;VALUE=DURATION:PT1H
X-Robots-Tag:noindex
X-PUBLISHED-TTL:PT1H
BEGIN:VTIMEZONE
TZID:Europe/Vienna
BEGIN:DAYLIGHT
TZOFFSETFROM:+0100
TZOFFSETTO:+0200
TZNAME:CEST
DTSTART:20190331T010000
END:DAYLIGHT
BEGIN:STANDARD
TZOFFSETFROM:+0200
TZOFFSETTO:+0100
TZNAME:CET
DTSTART:20191027T010000
END:STANDARD
BEGIN:DAYLIGHT
TZOFFSETFROM:+0100
TZOFFSETTO:+0200
TZNAME:CEST
DTSTART:20200329T010000
END:DAYLIGHT
BEGIN:STANDARD
TZOFFSETFROM:+0200
TZOFFSETTO:+0100
TZNAME:CET
DTSTART:20201025T010000
END:STANDARD
BEGIN:DAYLIGHT
TZOFFSETFROM:+0100
TZOFFSETTO:+0200
TZNAME:CEST
DTSTART:20210328T010000
END:DAYLIGHT
BEGIN:STANDARD
TZOFFSETFROM:+0200
TZOFFSETTO:+0100
TZNAME:CET
DTSTART:20211031T010000
END:STANDARD
BEGIN:DAYLIGHT
TZOFFSETFROM:+0100
TZOFFSETTO:+0200
TZNAME:CEST
DTSTART:20220327T010000
END:DAYLIGHT
BEGIN:STANDARD
TZOFFSETFROM:+0200
TZOFFSETTO:+0100
TZNAME:CET
DTSTART:20221030T010000
END:STANDARD
END:VTIMEZONE
BEGIN:VEVENT
DTSTART;TZID=Europe/Vienna:20221122T190000
DTEND;TZID=Europe/Vienna:20221122T203000
DTSTAMP:20260420T132947
CREATED:20221021T074948Z
LAST-MODIFIED:20221021T074948Z
UID:6499-1669143600-1669149000@www.sichtbar-evangelisch.at
SUMMARY:Die Naturwelt der Alpen - Vortrag
DESCRIPTION:Referent: Univ. Prof. i.R. Dr. Roman Türk \ngenauere Infos folgen! \nEintritt frei – Spenden erbeten
URL:https://www.sichtbar-evangelisch.at/event/die-naturwelt-der-alpen-vortrag/
LOCATION:Salzburg Christuskirche\, Schwarzstraße 25\, Salzburg\, Salzburg\, 5020\, Österreich
END:VEVENT
BEGIN:VEVENT
DTSTART;TZID=Europe/Vienna:20221115T190000
DTEND;TZID=Europe/Vienna:20221115T203000
DTSTAMP:20260420T132947
CREATED:20221021T074703Z
LAST-MODIFIED:20221021T074703Z
UID:6496-1668538800-1668544200@www.sichtbar-evangelisch.at
SUMMARY:Putins neue Weltordnung - Vortrag
DESCRIPTION:Wie kann der Krieg in der Ukraine aus der Perspektive des Kampfes Russlands gegen\, die bestehende Weltordnung betrachtet werden\,\nwas ist die russische Sicht auf USA\, NATO und die EU und wie sollte Putins Sicht\, die Welt neu geordnet werden? \n  \nReferentin: Dr. Doris Wydra\, Universität Salzburg\, Institut für Politikwissenschaft \n  \nEintritt frei – Spenden erbeten
URL:https://www.sichtbar-evangelisch.at/event/putins-neue-weltordnung-vortrag/
LOCATION:Salzburg Christuskirche\, Schwarzstraße 25\, Salzburg\, Salzburg\, 5020\, Österreich
ORGANIZER;CN="Salzburg Christuskirche":MAILTO:office@christuskirch.at
END:VEVENT
BEGIN:VEVENT
DTSTART;TZID=Europe/Vienna:20221022T090000
DTEND;TZID=Europe/Vienna:20221022T173000
DTSTAMP:20260420T132947
CREATED:20221021T080325Z
LAST-MODIFIED:20221021T080325Z
UID:6507-1666429200-1666459800@www.sichtbar-evangelisch.at
SUMMARY:Thumsee-Rundwanderung
DESCRIPTION:Thumsee-Rundwanderung zur Höllenbachalm (760m) und durch die Weißbachklamm (520m) \n  \nAbwechslungsreiche Waldwanderung \nWF: Helmut Ligárt \nGehzeit ca.:4 Std.\, 550Hm\, 14km (BW) \nTreffpunkt: Salzburger Christuskirche \nKontakt unter: \nChristian Pointl: 0664 / 351 4608\nHelmut Ligárt: 0699 / 10 625 880
URL:https://www.sichtbar-evangelisch.at/event/thumsee-rundwanderung/
LOCATION:Salzburg Christuskirche\, Schwarzstraße 25\, Salzburg\, Salzburg\, 5020\, Österreich
ORGANIZER;CN="Salzburg Christuskirche":MAILTO:office@christuskirch.at
END:VEVENT
BEGIN:VEVENT
DTSTART;TZID=Europe/Vienna:20200329T193000
DTEND;TZID=Europe/Vienna:20200329T210000
DTSTAMP:20260420T132947
CREATED:20200226T074922Z
LAST-MODIFIED:20200313T085841Z
UID:5398-1585510200-1585515600@www.sichtbar-evangelisch.at
SUMMARY:Abgesagt! - BachWerkVokal: "Die Schuldigkeit des ersten Gebots" KV35
DESCRIPTION:Wolfgang Amadeus Mozart\n„Die Schuldigkeit des ersten Gebots“ KV 35 \nSzenische Aufführung\nRaimund Weickl – Licht\nMichael Hofer-Lenz – Bühne und Kostüm\nKonstantin Paul – Regie\nGordon Safari – Musikalische Leitung
URL:https://www.sichtbar-evangelisch.at/event/bachwerkvokal-die-schuldigkeit-des-ersten-gebots-kv35/
LOCATION:Salzburg Christuskirche\, Schwarzstraße 25\, Salzburg\, Salzburg\, 5020\, Österreich
ATTACH;FMTTYPE=image/jpeg:https://www.sichtbar-evangelisch.at/wp-content/uploads/2020/02/BachWerkVokal.jpg
ORGANIZER;CN="Evang. Kirchenmusik Salzburg / Tirol":MAILTO:info@evangelischekirchenmusik.at
END:VEVENT
BEGIN:VEVENT
DTSTART;TZID=Europe/Vienna:20200222T093000
DTEND;TZID=Europe/Vienna:20200222T103000
DTSTAMP:20260420T132947
CREATED:20191226T133334Z
LAST-MODIFIED:20191226T140523Z
UID:4995-1582363800-1582367400@www.sichtbar-evangelisch.at
SUMMARY:Frauenfrühstück - Humor in der Bibel
DESCRIPTION:Die Bibel ist ein ernstes Buch – wer von uns hat nicht diese Vorstellung?\nGeht’s es doch um ernste Themen wie Leben und Tod\, Erlösung und Befreiung. \nBei diesem Frauenfrühstück am Faschingssamstag wollen wir ganz neue Seiten im Buch der Bücher entdecken!\nLassen Sie sich überraschen! \nReferentin: Dr. Jutta Henner (Leiteren der Österr. Bibelgesellschaft) \n  \n  \nAnmeldung bitte bis Donnerstag vor der Veranstaltung unter: \n  \nwiedermann@christuskirche.at oder unter: 0669 / 188 77 582
URL:https://www.sichtbar-evangelisch.at/event/frauenfruehstueck-humor-in-der-bibel/
LOCATION:Salzburg Christuskirche\, Schwarzstraße 25\, Salzburg\, Salzburg\, 5020\, Österreich
ORGANIZER;CN="Salzburg Christuskirche":MAILTO:office@christuskirch.at
END:VEVENT
BEGIN:VEVENT
DTSTART;TZID=Europe/Vienna:20200201T180000
DTEND;TZID=Europe/Vienna:20200201T193000
DTSTAMP:20260420T132947
CREATED:20191226T131100Z
LAST-MODIFIED:20191226T140651Z
UID:4985-1580580000-1580585400@www.sichtbar-evangelisch.at
SUMMARY:Klang Horizont Kirche: "Deutschland. Ein Wintermärchen"
DESCRIPTION:Texte von Heinrich Heine \nMusik von Bach und Schubert \nSebastian Brendel / Berlin – Rezitation\nEmil Vinzens / Hamburg – Klassische Gitarre \nEintritt: 10 – 18 € \nAbendkasse oder Vorbestellung unter: \nkarten@evangelischekirchenmusik.at oder unter: 0669 / 188 77 870 \n 
URL:https://www.sichtbar-evangelisch.at/event/klang-horizont-kirche-deutschland-ein-wintermaerchen/
LOCATION:Salzburg Christuskirche\, Schwarzstraße 25\, Salzburg\, Salzburg\, 5020\, Österreich
ATTACH;FMTTYPE=image/jpeg:https://www.sichtbar-evangelisch.at/wp-content/uploads/2019/12/KHK.jpg
ORGANIZER;CN="Evang. Kirchenmusik Salzburg / Tirol":MAILTO:info@evangelischekirchenmusik.at
END:VEVENT
BEGIN:VEVENT
DTSTART;TZID=Europe/Vienna:20200118T093000
DTEND;TZID=Europe/Vienna:20200118T103000
DTSTAMP:20260420T132947
CREATED:20191226T132932Z
LAST-MODIFIED:20191226T140747Z
UID:4992-1579339800-1579343400@www.sichtbar-evangelisch.at
SUMMARY:Frauenfrühstück - Stressbewältigung
DESCRIPTION:Die Referentin wird uns die biologischen und psychologischen Hintergründe zur Entstehung von Stress erläutern und mit uns praktische Übungen zu Stressbewältigung durchführen. \nReferentin: Lucia Rizzo\n(Heilprakterin\, Dipl. Psychologin) \n  \nAnmeldung bitte bis Donnerstag vor der Veranstaltung unter: \n  \nwiedermann@christuskirche.at oder unter: 0669 / 188 77 582
URL:https://www.sichtbar-evangelisch.at/event/frauenfruehstueck-stressbewaeltigung/
LOCATION:Salzburg Christuskirche\, Schwarzstraße 25\, Salzburg\, Salzburg\, 5020\, Österreich
ORGANIZER;CN="Salzburg Christuskirche":MAILTO:office@christuskirch.at
END:VEVENT
BEGIN:VEVENT
DTSTART;TZID=Europe/Vienna:20200106T180000
DTEND;TZID=Europe/Vienna:20200106T200000
DTSTAMP:20260420T132947
CREATED:20191226T130721Z
LAST-MODIFIED:20191226T140120Z
UID:4981-1578333600-1578340800@www.sichtbar-evangelisch.at
SUMMARY:BachWerkVokal - Weihnachtsoratorium Teile IV-VI BWV 248
DESCRIPTION:Johann Sebastian Bach \nUraufführung Peter Planyavsky „W.O.bei“ \nSechs Reflexionen zu Bachs Weihnachtsoratorium \n  \nEintritt: 16 – 28 € \, Studenten 10 € \nKarten unter: karten@bachwerkvokal.com oder unter: 0699 / 188 77 870
URL:https://www.sichtbar-evangelisch.at/event/bachwerkvokal-weihnachtsoratorium-teile-iv-vi-bwv-248/
LOCATION:Salzburg Christuskirche\, Schwarzstraße 25\, Salzburg\, Salzburg\, 5020\, Österreich
ATTACH;FMTTYPE=image/png:https://www.sichtbar-evangelisch.at/wp-content/uploads/2019/12/BWV_LogoPink_WebsiteHeader.png
ORGANIZER;CN="Evang. Kirchenmusik Salzburg / Tirol":MAILTO:info@evangelischekirchenmusik.at
END:VEVENT
BEGIN:VEVENT
DTSTART;TZID=Europe/Vienna:20200101T110000
DTEND;TZID=Europe/Vienna:20200101T130000
DTSTAMP:20260420T132947
CREATED:20191226T132347Z
LAST-MODIFIED:20191226T140836Z
UID:4988-1577876400-1577883600@www.sichtbar-evangelisch.at
SUMMARY:Neujahrs-Brunch mit Andacht und Neujahrskonzert
DESCRIPTION:Das neue Jahr begrüßen wir in unserer Pfarrgemeinde erstmals mit einer besinnlich-kulinarisch-musikalischen Veranstaltung\,\ndie den „klassichen“ Neujahrs-Gottesdienst ablöst! \nEs beginnt im Evangelischen Zentrum mit einer kurzen Andacht zum neuen Jahr\, anschließend gibt es ein Neujahrs-Brunch-Buffet und dazu ab 11:15 Uhr\ndas Neujahrskonzert als „Public Viewing“ auf der großen Leinwand. \nBitte melden Sie sich für die Teilnahme am Brunch bis 27.12.2019 im Pfarrbüro an: \n  \nDer Kostenbeitrag beträgt:  € 7\,00 \nunter: Office@christuskirche.at oder unter: 0662 / 874445
URL:https://www.sichtbar-evangelisch.at/event/neujahrs-brunch-mit-andacht-und-neujahrskonzert/
LOCATION:Salzburg Christuskirche\, Schwarzstraße 25\, Salzburg\, Salzburg\, 5020\, Österreich
ORGANIZER;CN="Salzburg Christuskirche":MAILTO:office@christuskirch.at
END:VEVENT
BEGIN:VEVENT
DTSTART;TZID=Europe/Vienna:20191130T100000
DTEND;TZID=Europe/Vienna:20191130T120000
DTSTAMP:20260420T132947
CREATED:20191127T083415Z
LAST-MODIFIED:20191127T113808Z
UID:441-1575108000-1575115200@www.sichtbar-evangelisch.at
SUMMARY:Sa. 30.Nov.2019 | ab 10:00 Uhr | EURegio Männer Frühschuppen
DESCRIPTION:in der Salzburger Christuskirche\n \nMusikalisch – Kulinarischer Start\n \nEin evangelischer Joint-Venture von der Kreuzkirche Freilassing und Salzburg Christuskirche.
URL:https://www.sichtbar-evangelisch.at/event/euregiofruehschoppen/
LOCATION:Salzburg Christuskirche\, Schwarzstraße 25\, Salzburg\, Salzburg\, 5020\, Österreich
CATEGORIES:Allgemeine Veranstaltungen
END:VEVENT
END:VCALENDAR