BEGIN:VCALENDAR
VERSION:2.0
PRODID:-//Evangelische Kirche - ECPv6.3.5//NONSGML v1.0//EN
CALSCALE:GREGORIAN
METHOD:PUBLISH
X-WR-CALNAME:Evangelische Kirche
X-ORIGINAL-URL:https://www.sichtbar-evangelisch.at
X-WR-CALDESC:Veranstaltungen für Evangelische Kirche
REFRESH-INTERVAL;VALUE=DURATION:PT1H
X-Robots-Tag:noindex
X-PUBLISHED-TTL:PT1H
BEGIN:VTIMEZONE
TZID:Europe/Vienna
BEGIN:DAYLIGHT
TZOFFSETFROM:+0100
TZOFFSETTO:+0200
TZNAME:CEST
DTSTART:20260329T010000
END:DAYLIGHT
BEGIN:STANDARD
TZOFFSETFROM:+0200
TZOFFSETTO:+0100
TZNAME:CET
DTSTART:20261025T010000
END:STANDARD
END:VTIMEZONE
BEGIN:VEVENT
DTSTART;TZID=Europe/Vienna:20260514T103000
DTEND;TZID=Europe/Vienna:20260514T113000
DTSTAMP:20260420T161653
CREATED:20260408T081246Z
LAST-MODIFIED:20260408T081322Z
UID:7320-1778754600-1778758200@www.sichtbar-evangelisch.at
SUMMARY:Berggottesdienst zu Christi Himmelfahrt
DESCRIPTION:Herzliche Einladung zu unserem Berggottesdienst am Hintersee im Felbertal (Salzburg) \nGemeinsam feiern wir mit unseren Nachbargemeinden Saalfelden und Zell am See.\nEr wird von Pfrn. Rahel Hahn und Pfr. Olivier Dantine gemeinsam gestaltet. \nTreffpunkt für Fahrgemeinschaften um 9:15 Uhr\nin der Christuskirche Kitzbühel. \nBei Schlechtwetter findet der Gottesdienst in der Christuskirche Kitzbühel statt.
URL:https://www.sichtbar-evangelisch.at/event/berggottesdienst-zu-christi-himmelfahrt/
LOCATION:Christuskirche Kitzbühel\, Ölberg 6\, Kitzbühel\, Tirol\, 6370\, Österreich
END:VEVENT
END:VCALENDAR