BEGIN:VCALENDAR
VERSION:2.0
PRODID:-//Evangelische Kirche - ECPv6.3.5//NONSGML v1.0//EN
CALSCALE:GREGORIAN
METHOD:PUBLISH
X-ORIGINAL-URL:https://www.sichtbar-evangelisch.at
X-WR-CALDESC:Veranstaltungen für Evangelische Kirche
REFRESH-INTERVAL;VALUE=DURATION:PT1H
X-Robots-Tag:noindex
X-PUBLISHED-TTL:PT1H
BEGIN:VTIMEZONE
TZID:Europe/Vienna
BEGIN:DAYLIGHT
TZOFFSETFROM:+0100
TZOFFSETTO:+0200
TZNAME:CEST
DTSTART:20250330T010000
END:DAYLIGHT
BEGIN:STANDARD
TZOFFSETFROM:+0200
TZOFFSETTO:+0100
TZNAME:CET
DTSTART:20251026T010000
END:STANDARD
END:VTIMEZONE
BEGIN:VEVENT
DTSTART;TZID=Europe/Vienna:20250326T190000
DTEND;TZID=Europe/Vienna:20250326T203000
DTSTAMP:20260421T003611
CREATED:20250319T102038Z
LAST-MODIFIED:20250319T102038Z
UID:7080-1743015600-1743021000@www.sichtbar-evangelisch.at
SUMMARY:Vortrag: "Zur Geschichte der Demokratie und was wir mit ihr verlieren würden"
DESCRIPTION:Referent: Prof. (FH) Dr. Markus Pausch\nDepartment Angewandte Sozialwissenschaften \nEintritt Frei – Spenden erbeten!
URL:https://www.sichtbar-evangelisch.at/event/vortrag-zur-geschichte-der-demokratie-und-was-wir-mit-ihr-verlieren-wuerden/
LOCATION:Pfarrgemeinde Hallein\, Davisstraße 38\, Hallein\, Salzburg\, 5400\, Österreich
END:VEVENT
BEGIN:VEVENT
DTSTART;TZID=Europe/Vienna:20250330T180000
DTEND;TZID=Europe/Vienna:20250330T203000
DTSTAMP:20260421T003611
CREATED:20250326T080951Z
LAST-MODIFIED:20250326T081938Z
UID:7104-1743357600-1743366600@www.sichtbar-evangelisch.at
SUMMARY:Orgelpunkt 2025
DESCRIPTION:Orgelkonzert – Laetare „Freuet euch“\nWerke von Bruhns\, J.S.Bach u.a. \nAls Solisten des Abends begrüßen wir mit Stephan Pollhammer einen der interessantesten Organisten der jungen Generation\, der vielen Salzburger:innen bekannt ist. \nDas Konzert steht unter dem Motto “Laetare = Freuet euch”\, gemäß dem Motto des Passionssonntages\, der auch als “Freudensonntag” innerhalb der Passionszeit bezeichnet wird. Zu diesem Anlass hat der Künstler Orgelmusik von Bach\, Bruhns u.a. Barockkomponisten ausgewählt\, die stilistisch hervorragend auf der Zanin-Orgel (2003) darstellbar sind. \nWir freuen uns auf Ihren Besuch bei Orgelpunkt und laden Sie herzlich auf ein Glas Wein nach dem Konzert ein. \nDer Eintritt für dieses hochklassige Orgelkonzert ist frei\, Spenden sind zur Deckung der Unkosten herzlich erbeten. \nZur Person von Stephan Pollhammer:\nStephan Pollhammer studierte Orgel und Klavier an der Universität Mozarteum Salzburg bei Prof. Hannfried Lucke und Christoph Declara. Weitere Studien bei Prof. Dr. Martin Sander an der Hochschule für Musik und Theater München folgten. \nAls Solist trat er unter anderem im Rahmen internationaler Orgelzyklen im Freiburger Münster\, den Domkirchen in Alkmaar\, Salzburg\, Szeged und Vaduz sowie im ORF-Sendesaal in Wien auf. Weitere Auftritte\, beispielsweise im Rahmen der Salzburger Festspiele oder der Mozartwoche\, führten ihn mit der Camerata Salzburg\, L’Arpeggiata und dem Monteverdi Choir sowie Persönlichkeiten wie Christina Pluhar zusammen. \nAls Dozent ist er für Orgel an der Hochschule für Musik und Theater München sowie für Korrepetition und Werkstudium Oratorium am Leopold Mozart College der Universität Augsburg tätig. \nZu seinen Erfolgen bei Internationalen Orgelwettbewerben zählen der 1. Preis sowie der Sonderpreis beim Sweelinck Wettbewerb Danzig 2024\, der 1. Preis sowie der Publikumspreis beim Schnitger Wettbewerb in Alkmaar 2022\, der 2. Preis beim Eberhard Friedrich Walcker Wettbewerb in Schramberg 2022\, der 2. Preis beim Bachwettbewerb Wiesbaden 2020 und der 1. Preis beim Rheinberger Wettbewerb Vaduz 2019.
URL:https://www.sichtbar-evangelisch.at/event/orgelpunkt-2025/
LOCATION:Salzburg Auferstehungskirche\, Dr.-Adolf-Altmannstr. 10\, Salzburg\, Salzburg\, 5020\, Österreich
ATTACH;FMTTYPE=image/jpeg:https://www.sichtbar-evangelisch.at/wp-content/uploads/2025/03/Orgelkonzert.jpg
ORGANIZER;CN="Evang. Kirchenmusik Salzburg / Tirol":MAILTO:info@evangelischekirchenmusik.at
END:VEVENT
END:VCALENDAR