BEGIN:VCALENDAR
VERSION:2.0
PRODID:-//Evangelische Kirche - ECPv6.3.5//NONSGML v1.0//EN
CALSCALE:GREGORIAN
METHOD:PUBLISH
X-ORIGINAL-URL:https://www.sichtbar-evangelisch.at
X-WR-CALDESC:Veranstaltungen für Evangelische Kirche
REFRESH-INTERVAL;VALUE=DURATION:PT1H
X-Robots-Tag:noindex
X-PUBLISHED-TTL:PT1H
BEGIN:VTIMEZONE
TZID:Europe/Vienna
BEGIN:DAYLIGHT
TZOFFSETFROM:+0100
TZOFFSETTO:+0200
TZNAME:CEST
DTSTART:20240331T010000
END:DAYLIGHT
BEGIN:STANDARD
TZOFFSETFROM:+0200
TZOFFSETTO:+0100
TZNAME:CET
DTSTART:20241027T010000
END:STANDARD
END:VTIMEZONE
BEGIN:VEVENT
DTSTART;TZID=Europe/Vienna:20241129T190000
DTEND;TZID=Europe/Vienna:20241129T203000
DTSTAMP:20260420T120803
CREATED:20241104T104358Z
LAST-MODIFIED:20241104T104358Z
UID:6993-1732906800-1732912200@www.sichtbar-evangelisch.at
SUMMARY:Konzert des Jugendchors Innsbruck
DESCRIPTION:Benefizkonzert vom JUKO Innsbruck mit Liedern aus aller Welt unter der Leitung von Bernhard Sieberer anlässlich des Welt-Aids-Tages am 1. Dezember. \nEintritt ist frei – Spenden willkommen!\nDer Erlös geht zur Gänze an das Projekt „Perspektive für Kinder“\, das sich seit Jahren in Uganda für die Unterstützung von Kindern und Jugendlichen\, die von Aids betroffen sind\, einsetzt.
URL:https://www.sichtbar-evangelisch.at/event/konzert-des-jugendchors-innsbruck/
LOCATION:Auferstehungskirche Innsbruck\, Gutshofweg 8\, Innsbruck\, Tirol\, 6020\, Österreich
END:VEVENT
END:VCALENDAR