BEGIN:VCALENDAR
VERSION:2.0
PRODID:-//Evangelische Kirche - ECPv6.3.5//NONSGML v1.0//EN
CALSCALE:GREGORIAN
METHOD:PUBLISH
X-ORIGINAL-URL:https://www.sichtbar-evangelisch.at
X-WR-CALDESC:Veranstaltungen für Evangelische Kirche
REFRESH-INTERVAL;VALUE=DURATION:PT1H
X-Robots-Tag:noindex
X-PUBLISHED-TTL:PT1H
BEGIN:VTIMEZONE
TZID:Europe/Vienna
BEGIN:DAYLIGHT
TZOFFSETFROM:+0100
TZOFFSETTO:+0200
TZNAME:CEST
DTSTART:20240331T010000
END:DAYLIGHT
BEGIN:STANDARD
TZOFFSETFROM:+0200
TZOFFSETTO:+0100
TZNAME:CET
DTSTART:20241027T010000
END:STANDARD
END:VTIMEZONE
BEGIN:VEVENT
DTSTART;TZID=Europe/Vienna:20241105T190000
DTEND;TZID=Europe/Vienna:20241105T203000
DTSTAMP:20260420T122653
CREATED:20241104T094914Z
LAST-MODIFIED:20241104T094926Z
UID:6957-1730833200-1730838600@www.sichtbar-evangelisch.at
SUMMARY:Vortragsreihe: Frieden
DESCRIPTION:„Frieden in der frühen Neuzeit und wenn ja\, wie viele?“ \nReferentin: Mag. Dr. Lena Oetzel\nHistorikerin Universität Salzburg \nOrt: Evangelisches Zentrum Salzburg Christuskirche\nUntergeschoss Saal 1\n5020 Salzburg\, Schwarzstraße 25 \nEintritt frei\, Spenden willkommen
URL:https://www.sichtbar-evangelisch.at/event/vortragsreihe-frieden/
LOCATION:Salzburg Christuskirche\, Schwarzstraße 25\, Salzburg\, Salzburg\, 5020\, Österreich
END:VEVENT
BEGIN:VEVENT
DTSTART;TZID=Europe/Vienna:20241107T140000
DTEND;TZID=Europe/Vienna:20241107T170000
DTSTAMP:20260420T122653
CREATED:20241104T095635Z
LAST-MODIFIED:20241104T100128Z
UID:6962-1730988000-1730998800@www.sichtbar-evangelisch.at
SUMMARY:Generationentag Hallein
DESCRIPTION:Bunter Nachmittag für Jungebliebene \nVortrag von Prof. Wintersteller:\nSchlaglichter auf Halleins Vergangenheit und Gegenwart \nversch. Sozialdienste stellen sich vor: Gesundheitsnetzwerk Salzburg\, Hilfswerk\, Samariterbund\, Hospiz u.a. \nBINGO Spiel mit tollen Preisen \nFür Kaffee\, Kuchen Würstl und Getränke ist gesorgt. \nEintriff frei – Spenden willkommen!
URL:https://www.sichtbar-evangelisch.at/event/generationentag-hallein/
LOCATION:Salzberghalle Hallein\, Zatloukalstraße 1\, Hallein\, Salzburg\, 5400\, Österreich
ORGANIZER;CN="Pfarrgemeinde Hallein":MAILTO:evang.hallein@sbg.at
END:VEVENT
BEGIN:VEVENT
DTSTART;TZID=Europe/Vienna:20241108T170000
DTEND;TZID=Europe/Vienna:20241117T190000
DTSTAMP:20260420T122653
CREATED:20241104T105534Z
LAST-MODIFIED:20241104T105707Z
UID:7002-1731085200-1731870000@www.sichtbar-evangelisch.at
SUMMARY:Das (perfekte) Desaster Dinner von Mark Camoletti
DESCRIPTION:Das EL-Theater lädt ein zu Ihren Aufführungen in der Schaitbergerkirche Hallein \nEin heiteres lustiges Stück\, um Liebe\, Verrat und viele kleine „Zufälle“. \nBearbeitung Michael Niavarani und Silke Stein\nRegie: Silke Stein und Astrid Fürhapter-Royer \nTermine: \n08.11.2024 (Premiere) und 15.11.2024 jeweils um 18:00 Uhr\n09.11.2024\, 10.11.2024\, 16.11.2024 und 17.11.2024 jeweils um 17:00 Uhr \nKartenreservierung unter: 0650 / 390 11 38 \nVorverkauf: € 15\,00\nAbendkasse: € 17\,00
URL:https://www.sichtbar-evangelisch.at/event/das-perfekte-desaster-dinner-von-mark-camoletti/
LOCATION:Pfarrgemeinde Hallein\, Davisstraße 38\, Hallein\, Salzburg\, 5400\, Österreich
END:VEVENT
BEGIN:VEVENT
DTSTART;TZID=Europe/Vienna:20241109T190000
DTEND;TZID=Europe/Vienna:20241109T200000
DTSTAMP:20260420T122653
CREATED:20241104T104848Z
LAST-MODIFIED:20241104T104848Z
UID:6999-1731178800-1731182400@www.sichtbar-evangelisch.at
SUMMARY:"Kaddisch" Gedenken an die Reichspogromnacht 1938
DESCRIPTION:mit dem Ensemble BachWerkVokal \nEintritt frei – Spenden willkommen!
URL:https://www.sichtbar-evangelisch.at/event/kaddisch-gedenken-an-die-reichspogromnacht-1938/
LOCATION:Kollegienkirche Salzburg\, Universitätsplatz\, Salzburg\, Salzburg\, 5020\, Österreich
END:VEVENT
BEGIN:VEVENT
DTSTART;TZID=Europe/Vienna:20241109T190000
DTEND;TZID=Europe/Vienna:20241109T220000
DTSTAMP:20260420T122653
CREATED:20241104T101734Z
LAST-MODIFIED:20241104T101734Z
UID:6974-1731178800-1731189600@www.sichtbar-evangelisch.at
SUMMARY:Movie Night
DESCRIPTION:Filmabend für Jugendliche der Pfarrgemeinde und ihre Freunde \nweitere Infos bitte bei Hannah Hofmeister unter: Tel.: 0699/188 77 570
URL:https://www.sichtbar-evangelisch.at/event/movie-night/
LOCATION:Auferstehungskirche Innsbruck\, Gutshofweg 8\, Innsbruck\, Tirol\, 6020\, Österreich
END:VEVENT
BEGIN:VEVENT
DTSTART;TZID=Europe/Vienna:20241110T093000
DTEND;TZID=Europe/Vienna:20241110T110000
DTSTAMP:20260420T122653
CREATED:20241104T101332Z
LAST-MODIFIED:20241104T103952Z
UID:6971-1731231000-1731236400@www.sichtbar-evangelisch.at
SUMMARY:Musikalischer Gottesdienst mit dem Ensemble BachWerkVokal
DESCRIPTION:Herzliche Einladung zu diesem musikalischen Gottesdienst mit Diözesankantor Gordon Safari und dem Ensemble BachWerkVokal. \nLiturgie: Pfarrer Werner Geißelbrecht\nMusikalische Leitung: Gordon Safari \nIm Anschluss an den Gottesdienst gibt es Gelegenheit\, mit den Musiker*innen über das Werk ins Gespräch zu kommen. \nDieses Projekt wird von der Evangelischen Kirche Österreich im Rahmen des Projekts AEL (aus dem Evangelium leben) unterstützt.
URL:https://www.sichtbar-evangelisch.at/event/musikalischer-gottesdienst-mit-dem-ensemble-bachwerkvokal/
LOCATION:OEZ Christuskirche Tirol\, Martin-Luther-Platz 1\, Innsbruck\, Tirol\, 6020\, Österreich
END:VEVENT
END:VCALENDAR