BEGIN:VCALENDAR
VERSION:2.0
PRODID:-//Evangelische Kirche - ECPv6.3.5//NONSGML v1.0//EN
CALSCALE:GREGORIAN
METHOD:PUBLISH
X-ORIGINAL-URL:https://www.sichtbar-evangelisch.at
X-WR-CALDESC:Veranstaltungen für Evangelische Kirche
REFRESH-INTERVAL;VALUE=DURATION:PT1H
X-Robots-Tag:noindex
X-PUBLISHED-TTL:PT1H
BEGIN:VTIMEZONE
TZID:Europe/Vienna
BEGIN:DAYLIGHT
TZOFFSETFROM:+0100
TZOFFSETTO:+0200
TZNAME:CEST
DTSTART:20240331T010000
END:DAYLIGHT
BEGIN:STANDARD
TZOFFSETFROM:+0200
TZOFFSETTO:+0100
TZNAME:CET
DTSTART:20241027T010000
END:STANDARD
END:VTIMEZONE
BEGIN:VEVENT
DTSTART;TZID=Europe/Vienna:20240611T193000
DTEND;TZID=Europe/Vienna:20240611T193000
DTSTAMP:20260420T075225
CREATED:20240320T101635Z
LAST-MODIFIED:20240320T102224Z
UID:6799-1718134200-1718134200@www.sichtbar-evangelisch.at
SUMMARY:FREUNDSCHAFT - FRIENDSHIP - WHAKA HOA
DESCRIPTION:Herzliche Einladung zu einem sommerabendlichen Freundschafts-Chorkonzert mit: \ndem New Zealand Male Choir\,\ndem Chor der Christuskirche\,\ndem Chor „pars-pro-toto“\nund den Mühlauer Sängern. \nGenießen sie einen Abend voller bunter Chormusik aus Innsbruck\, Tirol\, Neuseeland und der ganzen Welt. \n  \nDer Eintritt ist frei – über Spenden freuen sich die Singenden ganz bestimmt!
URL:https://www.sichtbar-evangelisch.at/event/freundschaft-friendship-whaka-hoa/
LOCATION:OEZ Christuskirche Tirol\, Martin-Luther-Platz 1\, Innsbruck\, Tirol\, 6020\, Österreich
ORGANIZER;CN="OEZ Christuskirche":MAILTO:oez@innsbruck-christuskirche.at
END:VEVENT
END:VCALENDAR