BEGIN:VCALENDAR
VERSION:2.0
PRODID:-//Evangelische Kirche - ECPv6.3.5//NONSGML v1.0//EN
CALSCALE:GREGORIAN
METHOD:PUBLISH
X-WR-CALNAME:Evangelische Kirche
X-ORIGINAL-URL:https://www.sichtbar-evangelisch.at
X-WR-CALDESC:Veranstaltungen für Evangelische Kirche
REFRESH-INTERVAL;VALUE=DURATION:PT1H
X-Robots-Tag:noindex
X-PUBLISHED-TTL:PT1H
BEGIN:VTIMEZONE
TZID:Europe/Vienna
BEGIN:DAYLIGHT
TZOFFSETFROM:+0100
TZOFFSETTO:+0200
TZNAME:CEST
DTSTART:20240331T010000
END:DAYLIGHT
BEGIN:STANDARD
TZOFFSETFROM:+0200
TZOFFSETTO:+0100
TZNAME:CET
DTSTART:20241027T010000
END:STANDARD
END:VTIMEZONE
BEGIN:VEVENT
DTSTART;TZID=Europe/Vienna:20240607T193000
DTEND;TZID=Europe/Vienna:20240607T223000
DTSTAMP:20260420T072339
CREATED:20240320T100801Z
LAST-MODIFIED:20240410T070721Z
UID:6789-1717788600-1717799400@www.sichtbar-evangelisch.at
SUMMARY:Russland\, Ukraine - und wir?
DESCRIPTION:Lange Nacht der Kirchen \n \n  \nVortrags- und Gesprächsabend mit Russlandexperte Gerhard Mangott \nIm ersten Teil des Abends erläutert Russlandsexperte Univ.-Prof. Gerhard Mangott \nKriegsmotive\, Kriegsziele\, globale Reaktionen sowie die Aussicht auf Verhandlungen. \nWie geht es uns persönlich mit diesem Konflikt? Und was können wir tun? \nDarüber tauschen sich Univ.-Prof. Gerhard Mangott und Pfarrer Werner Geißelbrecht  im zweiten Teil des Abends aus. \nSchließlich haben Sie auch die Möglichkeit\, selbst Fragen zu stellen und im Plenum miteinander ins Gespräch zu kommen. \nEin Friedensgebet um 22 Uhr rundet den Abend ab.
URL:https://www.sichtbar-evangelisch.at/event/russland-ukraine-und-wir/
LOCATION:OEZ Christuskirche Tirol\, Martin-Luther-Platz 1\, Innsbruck\, Tirol\, 6020\, Österreich
ATTACH;FMTTYPE=application/pdf:https://www.sichtbar-evangelisch.at/wp-content/uploads/2024/03/2024.06.07.-Plakat-Vortrags-und-Gespraechsabend-mit-Gerhard-Mangott.pdf
END:VEVENT
END:VCALENDAR