BEGIN:VCALENDAR
VERSION:2.0
PRODID:-//Evangelische Kirche - ECPv6.3.5//NONSGML v1.0//EN
CALSCALE:GREGORIAN
METHOD:PUBLISH
X-ORIGINAL-URL:https://www.sichtbar-evangelisch.at
X-WR-CALDESC:Veranstaltungen für Evangelische Kirche
REFRESH-INTERVAL;VALUE=DURATION:PT1H
X-Robots-Tag:noindex
X-PUBLISHED-TTL:PT1H
BEGIN:VTIMEZONE
TZID:Europe/Vienna
BEGIN:DAYLIGHT
TZOFFSETFROM:+0100
TZOFFSETTO:+0200
TZNAME:CEST
DTSTART:20230326T010000
END:DAYLIGHT
BEGIN:STANDARD
TZOFFSETFROM:+0200
TZOFFSETTO:+0100
TZNAME:CET
DTSTART:20231029T010000
END:STANDARD
END:VTIMEZONE
BEGIN:VEVENT
DTSTART;TZID=Europe/Vienna:20230123T180000
DTEND;TZID=Europe/Vienna:20230123T190000
DTSTAMP:20260420T185850
CREATED:20230116T090151Z
LAST-MODIFIED:20230116T091740Z
UID:6538-1674496800-1674500400@www.sichtbar-evangelisch.at
SUMMARY:Ökumenischer Stadtgottesdienst Salzburg "Tut Gutes! Sucht das Recht!" (Jes 1\,17)
DESCRIPTION:Predigt: Erzbischof Dr. Franz Lackner
URL:https://www.sichtbar-evangelisch.at/event/oekumenischer-stadtgottesdienst-salzburg-tut-gutes-sucht-das-recht-jes-117/
LOCATION:Salzburg Christuskirche\, Schwarzstraße 25\, Salzburg\, Salzburg\, 5020\, Österreich
ATTACH;FMTTYPE=image/jpeg:https://www.sichtbar-evangelisch.at/wp-content/uploads/2023/01/GebWo_Logo_Web_350x250.jpg
END:VEVENT
BEGIN:VEVENT
DTSTART;TZID=Europe/Vienna:20230124T190000
DTEND;TZID=Europe/Vienna:20230124T200000
DTSTAMP:20260420T185850
CREATED:20230116T090636Z
LAST-MODIFIED:20230116T091813Z
UID:6541-1674586800-1674590400@www.sichtbar-evangelisch.at
SUMMARY:Ökumenischer Gottesdienst Innsbruck „Tut Gutes! Sucht das Recht!“ (Jes 1\,17)
DESCRIPTION:Predigt: Pfarrer Attila Nagy-Gyorgy\, Altkatholische Gemeinde Innsbruck
URL:https://www.sichtbar-evangelisch.at/event/oekumenischer-gottesdienst-innsbruck-tut-gutes-sucht-das-recht-jes-117/
LOCATION:Johanneskirche am Innrain\, Innrain\, Innsbruck\, 6020\, Österreich
ATTACH;FMTTYPE=image/jpeg:https://www.sichtbar-evangelisch.at/wp-content/uploads/2023/01/GebWo_Logo_Web_350x250.jpg
END:VEVENT
END:VCALENDAR