BEGIN:VCALENDAR
VERSION:2.0
PRODID:-//Evangelische Kirche - ECPv6.3.5//NONSGML v1.0//EN
CALSCALE:GREGORIAN
METHOD:PUBLISH
X-ORIGINAL-URL:https://www.sichtbar-evangelisch.at
X-WR-CALDESC:Veranstaltungen für Evangelische Kirche
REFRESH-INTERVAL;VALUE=DURATION:PT1H
X-Robots-Tag:noindex
X-PUBLISHED-TTL:PT1H
BEGIN:VTIMEZONE
TZID:Europe/Vienna
BEGIN:DAYLIGHT
TZOFFSETFROM:+0100
TZOFFSETTO:+0200
TZNAME:CEST
DTSTART:20220327T010000
END:DAYLIGHT
BEGIN:STANDARD
TZOFFSETFROM:+0200
TZOFFSETTO:+0100
TZNAME:CET
DTSTART:20221030T010000
END:STANDARD
END:VTIMEZONE
BEGIN:VEVENT
DTSTART;TZID=Europe/Vienna:20221202T190000
DTEND;TZID=Europe/Vienna:20221202T230000
DTSTAMP:20260421T042519
CREATED:20221021T062747Z
LAST-MODIFIED:20221021T062842Z
UID:6461-1670007600-1670022000@www.sichtbar-evangelisch.at
SUMMARY:Adventkonzert: "wird schon stiller die Zeit"
DESCRIPTION:Das Kwarett Kärnten\nSopran: Evelyn Darmann\nAlt und Leitung: Gertrud Bramböck\nTenor: Josef Berger\nBass: Adolf Schinnerl \nentführen uns schon zum zweiten Mal mit stimmungsvollen Liedern in eine adventliche Stunde.Gemeinsam mit der Harfenistin Katharina Troger und besinnlichen Textlesungen stimmen sie in den Advent ein. \nHalten wir inne\, genießen wir Musik\, Gesang und Wort und stärken uns anschließend bei Punsch und Kastanien. \n  \nEintritt ist frei – Spenden erbeten (der Reinerlös kommt sozialen Projekten der Pfarrgemeinde zugute.)
URL:https://www.sichtbar-evangelisch.at/event/adventkonzert-wird-schon-stiller-die-zeit/
LOCATION:Tirol
END:VEVENT
END:VCALENDAR