BEGIN:VCALENDAR
VERSION:2.0
PRODID:-//Evangelische Kirche - ECPv6.3.5//NONSGML v1.0//EN
CALSCALE:GREGORIAN
METHOD:PUBLISH
X-WR-CALNAME:Evangelische Kirche
X-ORIGINAL-URL:https://www.sichtbar-evangelisch.at
X-WR-CALDESC:Veranstaltungen für Evangelische Kirche
REFRESH-INTERVAL;VALUE=DURATION:PT1H
X-Robots-Tag:noindex
X-PUBLISHED-TTL:PT1H
BEGIN:VTIMEZONE
TZID:Europe/Vienna
BEGIN:DAYLIGHT
TZOFFSETFROM:+0100
TZOFFSETTO:+0200
TZNAME:CEST
DTSTART:20220327T010000
END:DAYLIGHT
BEGIN:STANDARD
TZOFFSETFROM:+0200
TZOFFSETTO:+0100
TZNAME:CET
DTSTART:20221030T010000
END:STANDARD
END:VTIMEZONE
BEGIN:VEVENT
DTSTART;TZID=Europe/Vienna:20220405T190000
DTEND;TZID=Europe/Vienna:20220405T203000
DTSTAMP:20260423T020050
CREATED:20220210T121706Z
LAST-MODIFIED:20220331T094216Z
UID:6278-1649185200-1649190600@www.sichtbar-evangelisch.at
SUMMARY:Das Jahr der Schöpfung im Garten – Praxis-Tipps für mehr Natur
DESCRIPTION:Webinar mit Mag. Robert Siller\nMag. Robert Siller\, geboren 1978 in Kuchl\, folgte schon früh dem Appell der Natur\, experimentierte als Kind mit Mini-Pflanzenkläranlagen und war am liebsten in Wald und Wiese unterwegs auf Entdeckungstour. Nach landwirtschaftlicher Ausbildung\, Studium der Umweltsystemwissenschaften\, gründete er 2016 sein landschaftsgärtnerisches Gestaltungsunternehmen rob mag.s GRÜN mit naturbetontem und ökologischem Schwerpunkt.\n„Gärten haben das Potenzial uns wieder zu verbinden. Mit der Natur\, mit unseren Nächsten und mit uns SELBST“ – Robert Siller \nZoom-Link \nZur Anmeldung \nDas Jahr der Schöpfung im Garten \n 
URL:https://www.sichtbar-evangelisch.at/event/das-jahr-der-schoepfung-im-garten-praxis-tipps-fuer-mehr-natur/
LOCATION:online
CATEGORIES:Allgemeine Veranstaltungen
ATTACH;FMTTYPE=image/jpeg:https://www.sichtbar-evangelisch.at/wp-content/uploads/2022/02/wildblumen4_robertsiller-scaled.jpg
ORGANIZER;CN="Evangelische Kirche Salzburg und Tirol":MAILTO:salzburg-tirol@evang.at
END:VEVENT
END:VCALENDAR