BEGIN:VCALENDAR
VERSION:2.0
PRODID:-//Evangelische Kirche - ECPv6.3.5//NONSGML v1.0//EN
CALSCALE:GREGORIAN
METHOD:PUBLISH
X-ORIGINAL-URL:https://www.sichtbar-evangelisch.at
X-WR-CALDESC:Veranstaltungen für Evangelische Kirche
REFRESH-INTERVAL;VALUE=DURATION:PT1H
X-Robots-Tag:noindex
X-PUBLISHED-TTL:PT1H
BEGIN:VTIMEZONE
TZID:Europe/Vienna
BEGIN:DAYLIGHT
TZOFFSETFROM:+0100
TZOFFSETTO:+0200
TZNAME:CEST
DTSTART:20220327T010000
END:DAYLIGHT
BEGIN:STANDARD
TZOFFSETFROM:+0200
TZOFFSETTO:+0100
TZNAME:CET
DTSTART:20221030T010000
END:STANDARD
END:VTIMEZONE
BEGIN:VEVENT
DTSTART;TZID=Europe/Vienna:20220128T180000
DTEND;TZID=Europe/Vienna:20220128T200000
DTSTAMP:20260423T045301
CREATED:20211206T165230Z
LAST-MODIFIED:20220113T102702Z
UID:6232-1643392800-1643400000@www.sichtbar-evangelisch.at
SUMMARY:Auftakt zum Jahr der Schöpfung in Salzburg und Tirol
DESCRIPTION:Unser Schöpfungsbotschafterinnen stellen sich vor und erzählen\, was Sie im Jahr der Schöpfung vorhaben. Darüber hinaus wollen wir uns mit allen Interessierten aus Gemeinden und weiteren Arbeitsbereichen über Veranstaltungen und Projekte zum Jahr der Schöpfung austauschen. \nZur Anmeldung
URL:https://www.sichtbar-evangelisch.at/event/auftakt-zum-jahr-der-schoepfung-in-salzburg-und-tirol/
LOCATION:Tirol
CATEGORIES:Allgemeine Veranstaltungen
ATTACH;FMTTYPE=image/jpeg:https://www.sichtbar-evangelisch.at/wp-content/uploads/2021/12/P1260618.jpg
ORGANIZER;CN="Evangelische Kirche Salzburg und Tirol":MAILTO:salzburg-tirol@evang.at
END:VEVENT
END:VCALENDAR