BEGIN:VCALENDAR
VERSION:2.0
PRODID:-//Evangelische Kirche - ECPv6.3.5//NONSGML v1.0//EN
CALSCALE:GREGORIAN
METHOD:PUBLISH
X-WR-CALNAME:Evangelische Kirche
X-ORIGINAL-URL:https://www.sichtbar-evangelisch.at
X-WR-CALDESC:Veranstaltungen für Evangelische Kirche
REFRESH-INTERVAL;VALUE=DURATION:PT1H
X-Robots-Tag:noindex
X-PUBLISHED-TTL:PT1H
BEGIN:VTIMEZONE
TZID:Europe/Vienna
BEGIN:DAYLIGHT
TZOFFSETFROM:+0100
TZOFFSETTO:+0200
TZNAME:CEST
DTSTART:20200329T010000
END:DAYLIGHT
BEGIN:STANDARD
TZOFFSETFROM:+0200
TZOFFSETTO:+0100
TZNAME:CET
DTSTART:20201025T010000
END:STANDARD
END:VTIMEZONE
BEGIN:VEVENT
DTSTART;TZID=Europe/Vienna:20201111T190000
DTEND;TZID=Europe/Vienna:20201111T203000
DTSTAMP:20260424T114933
CREATED:20201008T062159Z
LAST-MODIFIED:20201016T083316Z
UID:5811-1605121200-1605126600@www.sichtbar-evangelisch.at
SUMMARY:ABGESAGT! Wem gehören die Sonn- und Feiertage?
DESCRIPTION:Die Veranstaltung „Wem gehören die Sonn- und Feiertage?“ musste aufgrund der aktuellen Covid-19-Situation leider abgesagt werden! Wir bitten um Verständnis!
URL:https://www.sichtbar-evangelisch.at/event/wem-gehoeren-die-sonn-und-feiertage/
LOCATION:Haus der Begegnung Innsbruck\, Rennweg 12\, Innsbruck\, 6020\, Österreich
ATTACH;FMTTYPE=image/jpeg:https://www.sichtbar-evangelisch.at/wp-content/uploads/2020/03/church-3588619_1920.jpg
ORGANIZER;CN="%C3%96kumenische Initiative Tirol":MAILTO:initiative@oekumene-tirol.at
END:VEVENT
END:VCALENDAR