BEGIN:VCALENDAR
VERSION:2.0
PRODID:-//Evangelische Kirche - ECPv6.3.5//NONSGML v1.0//EN
CALSCALE:GREGORIAN
METHOD:PUBLISH
X-ORIGINAL-URL:https://www.sichtbar-evangelisch.at
X-WR-CALDESC:Veranstaltungen für Evangelische Kirche
REFRESH-INTERVAL;VALUE=DURATION:PT1H
X-Robots-Tag:noindex
X-PUBLISHED-TTL:PT1H
BEGIN:VTIMEZONE
TZID:Europe/Vienna
BEGIN:DAYLIGHT
TZOFFSETFROM:+0100
TZOFFSETTO:+0200
TZNAME:CEST
DTSTART:20250330T010000
END:DAYLIGHT
BEGIN:STANDARD
TZOFFSETFROM:+0200
TZOFFSETTO:+0100
TZNAME:CET
DTSTART:20251026T010000
END:STANDARD
END:VTIMEZONE
BEGIN:VEVENT
DTSTART;TZID=Europe/Vienna:20250503T143000
DTEND;TZID=Europe/Vienna:20250503T200000
DTSTAMP:20260421T011149
CREATED:20250402T083718Z
LAST-MODIFIED:20250402T083727Z
UID:7131-1746282600-1746302400@www.sichtbar-evangelisch.at
SUMMARY:Ökumen. Wanderung zum Höttinger Bild
DESCRIPTION:Gemeinschaft erleben – sich an der Natur freuen – zu Ruhe kommen. \nMöglichkeiten:\n1: ab 14:30 Uhr von der Hungerburg aus (Dauer ca. 2 Std.).\n2: ab 15:30 Uhr vom Planötzenhof aus (Dauer ca. 50 min.) \n16:30 Uhr Ökumen. Andacht.\nPredigt: Univ.-Prof. Dr. Józef Niewiadomski. \nAnschließen gibt es die Möglichkeit zum gemütlichen Beisammensein im Planötzenhof.\n(Bitte um Anmeldung unter: initiative@oekumene-tirol.at ) \ndie ökumenische Andacht findet bei jeder Wetterlage statt!
URL:https://www.sichtbar-evangelisch.at/event/oekumen-wanderung-zum-hoettinger-bild/
LOCATION:Tirol
END:VEVENT
BEGIN:VEVENT
DTSTART;TZID=Europe/Vienna:20250517T090000
DTEND;TZID=Europe/Vienna:20250517T130000
DTSTAMP:20260421T011149
CREATED:20250319T103312Z
LAST-MODIFIED:20250319T103312Z
UID:7087-1747472400-1747486800@www.sichtbar-evangelisch.at
SUMMARY:Kurs: "Letzte Hilfe"
DESCRIPTION:Referenten: Hospiz und Palliativ Akademie Salzburg \nAnmeldung unter:\nTel.: +43 699 188 77 870 oder per\nMail: info@ebw-salzburg.at \nKostenbeitrag  € 20\,00 \nOrt: Anna-Radauer-Saal im Lebensraum Tageshospiz\nBuchholzhofstraße 3a\n5020 Salzburg
URL:https://www.sichtbar-evangelisch.at/event/kurs-letzte-hilfe/
LOCATION:Hospiz-Bewegung Salzburg\, Buchholzhofstraße 3a\, Salzburg\, Salzburg\, 5020\, Österreich
END:VEVENT
BEGIN:VEVENT
DTSTART;TZID=Europe/Vienna:20250517T090000
DTEND;TZID=Europe/Vienna:20250517T153000
DTSTAMP:20260421T011149
CREATED:20250423T084831Z
LAST-MODIFIED:20250423T085332Z
UID:7149-1747472400-1747495800@www.sichtbar-evangelisch.at
SUMMARY:Evangelischer Frauentag
DESCRIPTION:  \n  \nThema: „Miteinander auf dem Weg“ \nZwei Frauen kämpfen um ihr nacktes Überleben in einer archaischen Gesellschaft\nund erweisen sich dabei als überaus klug und umsichtig.\nDas biblische Buch „Rut“ bringt wie kein anderes biblisches Buch\nweibliche Lebenszusammenhänge in authentischer Weise zur Sprache. \n  \nAblauf des Frauentages: \n09:15 Uhr   Ankommen \n09:45 Uhr   Begrüßung \n10:00 Uhr    Einstieg ins Thema mit Pfr.in i.R. Dagmar Mangold \n.                    Workshops zum Thema mit Pfr.in. Assunta Kautzky\n.                    (mit kurzer Pause) \n12:30 Uhr   Mittagessen (Angelika und Brunhilde kochen wieder für uns) \n14:00 Uhr   Abschlussgottesdienst mit Lektorin Anke Hoffmann \n  \nWir bitten um Anmeldung bis Freitag\, 2. Mai 2025 \nFür Tirol unter: Carola Tittelbach:\nTel.: 0677/62062958\nMail: wolfgang621@gmx.net \nFür Salzburg: Doris Welther\nTel.: 0699/18877564\nMail: dorwelt@gmail.com
URL:https://www.sichtbar-evangelisch.at/event/evangelischer-frauentag-2/
LOCATION:Auferstehungskirche Innsbruck\, Gutshofweg 8\, Innsbruck\, Tirol\, 6020\, Österreich
ATTACH;FMTTYPE=image/png:https://www.sichtbar-evangelisch.at/wp-content/uploads/2025/04/Screenshot-3.png
END:VEVENT
BEGIN:VEVENT
DTSTART;TZID=Europe/Vienna:20250518T100000
DTEND;TZID=Europe/Vienna:20250518T170000
DTSTAMP:20260421T011149
CREATED:20250409T084450Z
LAST-MODIFIED:20250409T084657Z
UID:7140-1747562400-1747587600@www.sichtbar-evangelisch.at
SUMMARY:Diözesan- und Gustav-Adolf-Fest: 100 Jahre Evangelische Pfarrgemeinde Hallein
DESCRIPTION:Unter dem Motto „Glauben – Leben – Helfen“ feiern wir gemeinsam das 100-jährige Bestehen der Pfarrgemeinde –\nverbunden mit dem Diözesan- und Gustav-Adolf-Fest. \nProgramm:\n10:00 Uhr – Festgottesdienst \n\nPredigt: Dr. Maria-Katharina Moser (Direktorin der Diakonie Österreich)\nMusik: Cantorey Salzburg\, Leitung: Gordon Safari (Diözesankantor)\nGrußworte des Landeshauptmannes und des Bürgermeisters von Hallein\nParallel: Kindergottesdienst\n\n11:15 Uhr – Festumzug mit der Bürgerkorpskapelle Hallein \n\nParallel: Gustav-Adolf-Hauptversammlung\n\n12:30 Uhr – Gemeinsames Mittagessen\n             (Verkauf der Genussscheine am Vormittag am ausgewiesenen Stand:\nErwachsene € 25\,00 / Jugendliche € 15\,00 / Kinder sind gratis) \n14:00 Uhr – Highlights am Nachmittag: \n\nStadtführung aus evangelischer Perspektive mit Benjamin Huber\nKinderprogramm\nKonzert & gemeinsames Singen mit Silke Stein & Peter Pröglhöf\n\n15:30 Uhr – Schlussandacht \n\nMit Mag. Olivier Dantine (Superintendent)\n\n  \nℹ️ Anreiseinfos:\n\nParkplätze: Rund um die Kirche vorhanden\nVom Bahnhof Hallein: ca. 12 Minuten Fußweg\nAdresse: Evangelische Pfarrgemeinde A.u.H.B.\, Davisstraße 38\, 5400 Hallein\n\nKommen Sie vorbei – wir freuen uns auf einen unvergesslichen Tag voller Begegnungen\, Musik und Gemeinschaft!
URL:https://www.sichtbar-evangelisch.at/event/dioezesan-und-gustav-adolf-fest-100-jahre-evangelische-pfarrgemeinde-hallein/
LOCATION:Pfarrgemeinde Hallein\, Davisstraße 38\, Hallein\, Salzburg\, 5400\, Österreich
ATTACH;FMTTYPE=image/png:https://www.sichtbar-evangelisch.at/wp-content/uploads/2025/04/gav.hallein.png
ORGANIZER;CN="Pfarrgemeinde Hallein":MAILTO:evang.hallein@sbg.at
END:VEVENT
BEGIN:VEVENT
DTSTART;TZID=Europe/Vienna:20250518T180000
DTEND;TZID=Europe/Vienna:20250518T203000
DTSTAMP:20260421T011149
CREATED:20250319T093314Z
LAST-MODIFIED:20250319T100956Z
UID:7056-1747591200-1747600200@www.sichtbar-evangelisch.at
SUMMARY:BachWerkVokal: "Jubiläum"
DESCRIPTION:Das Ensemble BachWerkVokal Salzburg präsentiert: \n10 Jahre Ensemble BachWerkVokal\nmit Dirigent – Gordon Safari \nfreuen Sie sich auf: Johann Sebastian Bach (1685-1750)\n„Wer nur den lieben Gott lässt walten“ BWV 93\n„Tönet\, ihr Pauken! Erschallet\, Trompeten!“ BWV 214\n„Lobet den Herrn\, aller Heiden“ BWV 230\n„Jauchzet dem Herrn“ BWV 160 Anh. \nPreise: 18 – 30 € (je nach Katagorie)\nStudent:innen 5€\nErmäßigung für Pensionist:innen \nKartenreservierung unter:\nTel.: +43 699 188 77 870 oder per\nMail: karten@bachwerkvokal.com
URL:https://www.sichtbar-evangelisch.at/event/bachwerkvokal-jubilaeium/
LOCATION:Salzburg Christuskirche\, Schwarzstraße 25\, Salzburg\, Salzburg\, 5020\, Österreich
ATTACH;FMTTYPE=application/pdf:https://www.sichtbar-evangelisch.at/wp-content/uploads/2025/03/3707_001.pdf
ORGANIZER;CN="Evang. Kirchenmusik Salzburg / Tirol":MAILTO:info@evangelischekirchenmusik.at
END:VEVENT
BEGIN:VEVENT
DTSTART;TZID=Europe/Vienna:20250521T190000
DTEND;TZID=Europe/Vienna:20250521T203000
DTSTAMP:20260421T011149
CREATED:20250319T103902Z
LAST-MODIFIED:20250319T103902Z
UID:7091-1747854000-1747859400@www.sichtbar-evangelisch.at
SUMMARY:Vortrag: "Du hast mich im Bauch meiner Mutter gewoben" (Psalm 139\,13)
DESCRIPTION:Referentin: Univ.-Prof. Mag. Dr. Marianne Grohmann \nEintritt frei – Spenden erbeten!
URL:https://www.sichtbar-evangelisch.at/event/vortrag-du-hast-mich-im-bauch-meiner-mutter-gewoben-psalm-13913/
LOCATION:Evang. Pfarrgemeinde A.B. Saalfelden\, Palvenstraße 2\, Saalfelden\, Salzburg\, 5760\, Österreich
END:VEVENT
BEGIN:VEVENT
DTSTART;TZID=Europe/Vienna:20250522T180000
DTEND;TZID=Europe/Vienna:20250522T193000
DTSTAMP:20260421T011149
CREATED:20250319T104338Z
LAST-MODIFIED:20250319T104338Z
UID:7098-1747936800-1747942200@www.sichtbar-evangelisch.at
SUMMARY:Vortrag: "Du hast mich im Bauch meiner Mutter gewoben" (Psalm 139\,13)
DESCRIPTION:Referentin: Univ.-Prof. Mag. Dr. Marianne Grohmann \nEintritt frei – Spenden erbeten!
URL:https://www.sichtbar-evangelisch.at/event/vortrag-du-hast-mich-im-bauch-meiner-mutter-gewoben-psalm-13913-2/
LOCATION:Salzburg Christuskirche\, Schwarzstraße 25\, Salzburg\, Salzburg\, 5020\, Österreich
END:VEVENT
END:VCALENDAR