BEGIN:VCALENDAR
VERSION:2.0
PRODID:-//Evangelische Kirche - ECPv6.3.5//NONSGML v1.0//EN
CALSCALE:GREGORIAN
METHOD:PUBLISH
X-WR-CALNAME:Evangelische Kirche
X-ORIGINAL-URL:https://www.sichtbar-evangelisch.at
X-WR-CALDESC:Veranstaltungen für Evangelische Kirche
REFRESH-INTERVAL;VALUE=DURATION:PT1H
X-Robots-Tag:noindex
X-PUBLISHED-TTL:PT1H
BEGIN:VTIMEZONE
TZID:Europe/Vienna
BEGIN:DAYLIGHT
TZOFFSETFROM:+0100
TZOFFSETTO:+0200
TZNAME:CEST
DTSTART:20250330T010000
END:DAYLIGHT
BEGIN:STANDARD
TZOFFSETFROM:+0200
TZOFFSETTO:+0100
TZNAME:CET
DTSTART:20251026T010000
END:STANDARD
END:VTIMEZONE
BEGIN:VEVENT
DTSTART;TZID=Europe/Vienna:20250403T180000
DTEND;TZID=Europe/Vienna:20250403T193000
DTSTAMP:20260420T183724
CREATED:20250402T082915Z
LAST-MODIFIED:20250402T082915Z
UID:7124-1743703200-1743708600@www.sichtbar-evangelisch.at
SUMMARY:Ökumenische Gebetwache
DESCRIPTION:Im Gedenken an die Glaubenszeug*innen\, die in unserer Zeit ihr Leben für das Evangelium hingegeben haben. \nMit Bischof Hermann Glettler und Superintendent Olivier Dantine\, sowie Vertreter*innen der orthodoxen Kirchen und weiterer christlicher Konfessionen und Orden.
URL:https://www.sichtbar-evangelisch.at/event/oekumenische-gebetwache/
LOCATION:Spitalskirche Innsbruck\, Maria-Theresien-Straße 2\, Innsbruck\, 6020\, Österreich
END:VEVENT
BEGIN:VEVENT
DTSTART;TZID=Europe/Vienna:20250403T180000
DTEND;TZID=Europe/Vienna:20250403T200000
DTSTAMP:20260420T183724
CREATED:20250319T101704Z
LAST-MODIFIED:20250319T101704Z
UID:7077-1743703200-1743710400@www.sichtbar-evangelisch.at
SUMMARY:Vortrag: "Prophetinnen + Verkünderinnen" - Vergessene Frauen aus dem Neuen Testament
DESCRIPTION:Referentin: Mag. Dr. Eva Puschautz \nEintritt frei – Spenden erbeten!
URL:https://www.sichtbar-evangelisch.at/event/vortrag-prophetinnen-verkuenderinnen-vergessene-frauen-aus-dem-neuen-testament/
LOCATION:Salzburg Auferstehungskirche\, Dr.-Adolf-Altmannstr. 10\, Salzburg\, Salzburg\, 5020\, Österreich
END:VEVENT
BEGIN:VEVENT
DTSTART;TZID=Europe/Vienna:20250409T190000
DTEND;TZID=Europe/Vienna:20250409T203000
DTSTAMP:20260420T183724
CREATED:20250319T102604Z
LAST-MODIFIED:20250319T102604Z
UID:7083-1744225200-1744230600@www.sichtbar-evangelisch.at
SUMMARY:Vortrag: "Wege aus der Angst - Umgang mit Bedrohungen\, Gruppenzugehörigkeiten und Polarisierungen von Weltanschauungen"
DESCRIPTION:Referentin: Univ.-Prof. Dr. Eva Jonas\nAbteilungsleiterin Sozialpsychologie \nEintritt frei – Spenden erbeten!
URL:https://www.sichtbar-evangelisch.at/event/vortrag-wege-aus-der-angst-umgang-mit-bedrohungen-gruppenzugehoerigkeiten-und-polarisierungen-von-weltanschauungen/
LOCATION:Pfarrzentrum Nonntal – St. Erhard\, Nonntaler Hauptstraße 12A\, Salzburg\, Salzburg\, 5020\, Österreich
END:VEVENT
BEGIN:VEVENT
DTSTART;TZID=Europe/Vienna:20250417T160000
DTEND;TZID=Europe/Vienna:20250417T183000
DTSTAMP:20260420T183724
CREATED:20250319T092549Z
LAST-MODIFIED:20250319T093605Z
UID:7051-1744905600-1744914600@www.sichtbar-evangelisch.at
SUMMARY:BachWerkVokal: "Matthäuspassion"
DESCRIPTION:Das Ensemble BachWerkVokal Salzburg präsentiert: \ndie „Matthäuspassion“ Wq234 (1769) von Carl Philipp Emanuel Bach (1714-1788)\nmit Dirigent – Gordon Safari \nPreise: 18 – 30 € (je nach Katagorie)\n        Student:innen 5€\n        Ermäßigung für Pensionist:innen \nKartenreservierung unter:\nTel.: +43 699 188 77 870 oder per\nMail: karten@bachwerkvokal.com
URL:https://www.sichtbar-evangelisch.at/event/bachwerkvokal-matthaeuspassion/
LOCATION:Salzburg Christuskirche\, Schwarzstraße 25\, Salzburg\, Salzburg\, 5020\, Österreich
ATTACH;FMTTYPE=application/pdf:https://www.sichtbar-evangelisch.at/wp-content/uploads/2025/03/3708_001.pdf
ORGANIZER;CN="Evang. Kirchenmusik Salzburg / Tirol":MAILTO:info@evangelischekirchenmusik.at
END:VEVENT
BEGIN:VEVENT
DTSTART;TZID=Europe/Vienna:20250420T050000
DTEND;TZID=Europe/Vienna:20250420T063000
DTSTAMP:20260420T183724
CREATED:20250319T085207Z
LAST-MODIFIED:20250319T085814Z
UID:7043-1745125200-1745130600@www.sichtbar-evangelisch.at
SUMMARY:Osternacht in der Christuskirche Innsbruck
DESCRIPTION:Wir gehen vom Dunkel ins Licht. \nFeiern wir gemeinsam diesen besonderen Gottesdienst in der Osternacht und erleben wir wieder\, wie das Licht die Finsternis durchbricht. Mit viel Musik\, Stimmen aus dem Dunkel\, Tauferinnerung und Abendmahl. \nGestaltung\nPfarrer Werner Geißelbrecht und Team (Liturgie)\, sowie Franjo Köhle und Gregor Handrich (Musik) \nIm Anschluss: Festliche Oster-Agape und Eierpecken im Gemeindesaal!\nWer süßes und pikantes Fingerfood beisteuern möchte\,\nbitte um Bekanntgabe an das Pfarramt unter: \nTel.: +43 59 1517 51101 oder\ne-mail: pfarramt@innsbruck-christuskirche.at \nNähere Informationen: www.innsbruck-christuskirche.at
URL:https://www.sichtbar-evangelisch.at/event/osternacht-in-der-christuskirche-innsbruck/
LOCATION:Christuskirche Innsbruck\, Martin-Luther-Platz 1\, Innsbruck\, Tirol\, 6020\, Österreich
ATTACH;FMTTYPE=image/png:https://www.sichtbar-evangelisch.at/wp-content/uploads/2025/03/Osternacht.png
END:VEVENT
BEGIN:VEVENT
DTSTART;TZID=Europe/Vienna:20250426T093000
DTEND;TZID=Europe/Vienna:20250426T163000
DTSTAMP:20260420T183724
CREATED:20250319T100319Z
LAST-MODIFIED:20250319T100703Z
UID:7061-1745659800-1745685000@www.sichtbar-evangelisch.at
SUMMARY:Tag der Ehrenamtlichen in der Evang. Superintendenz Salzburg-Tirol
DESCRIPTION:unter dem Motto: \nFREIWILLIG – MOTIVIERT – EVANGELISCH – GEMEINSAM \nladen wir herzlich alle ehrenamtlichen Mitarbeiter:innen aus allen Evangelischen Pfarrgemeinden Salzburg/Tirol zu diesem besonderen Tag ein! \nLassen sie sich an diesem Tag von uns verwöhnen und nehmen Sie an unseren Workshops und Austauschrunden zu vielen versch. interessanten Themen teil.\nNäheres finden Sie im Anhang (Folder). \nAnmeldeschluss ist der Montag\, 7. April 2025 \nAnmeldungen bitte unter:\nTel.: +43 699 188 77 870 oder per\nE-Mail: sekretariat@ewb-salzburg.at \nWir freuen uns auf Sie!!!  \nFolder: Tag der Ehrenamtlichen
URL:https://www.sichtbar-evangelisch.at/event/tag-der-ehrenamtlichen-in-der-evang-superintendenz-salzburg-tirol/
LOCATION:Tourismusschule Klessheim\, Klessheimer Straße 4\, Klessheim\, Salzburg\, 5071\, Österreich
ATTACH;FMTTYPE=image/png:https://www.sichtbar-evangelisch.at/wp-content/uploads/2025/03/ehrenamt.png
END:VEVENT
BEGIN:VEVENT
DTSTART;TZID=Europe/Vienna:20250427T093000
DTEND;TZID=Europe/Vienna:20250427T103000
DTSTAMP:20260420T183724
CREATED:20250402T083103Z
LAST-MODIFIED:20250402T083103Z
UID:7128-1745746200-1745749800@www.sichtbar-evangelisch.at
SUMMARY:Musikalischer Gottesdienst
DESCRIPTION:Mit dem Chor der Christuskirche unter der Leitung von Thorsten Weber und Florian Baumgartner (Orgel).
URL:https://www.sichtbar-evangelisch.at/event/musikalischer-gottesdienst/
LOCATION:Christuskirche Innsbruck\, Martin-Luther-Platz 1\, Innsbruck\, Tirol\, 6020\, Österreich
END:VEVENT
END:VCALENDAR