BEGIN:VCALENDAR
VERSION:2.0
PRODID:-//Evangelische Kirche - ECPv6.3.5//NONSGML v1.0//EN
CALSCALE:GREGORIAN
METHOD:PUBLISH
X-WR-CALNAME:Evangelische Kirche
X-ORIGINAL-URL:https://www.sichtbar-evangelisch.at
X-WR-CALDESC:Veranstaltungen für Evangelische Kirche
REFRESH-INTERVAL;VALUE=DURATION:PT1H
X-Robots-Tag:noindex
X-PUBLISHED-TTL:PT1H
BEGIN:VTIMEZONE
TZID:Europe/Vienna
BEGIN:DAYLIGHT
TZOFFSETFROM:+0100
TZOFFSETTO:+0200
TZNAME:CEST
DTSTART:20240331T010000
END:DAYLIGHT
BEGIN:STANDARD
TZOFFSETFROM:+0200
TZOFFSETTO:+0100
TZNAME:CET
DTSTART:20241027T010000
END:STANDARD
END:VTIMEZONE
BEGIN:VEVENT
DTSTART;TZID=Europe/Vienna:20240504T190000
DTEND;TZID=Europe/Vienna:20240504T190000
DTSTAMP:20260419T235009
CREATED:20240320T095640Z
LAST-MODIFIED:20240320T095640Z
UID:6785-1714849200-1714849200@www.sichtbar-evangelisch.at
SUMMARY:Benefiz-Akkordeon-Konzert
DESCRIPTION:Ein Akkordeon-Orchester aus Baden-Württemberg gibt ein abwechslungsreiches Benefizkonzert für die Auferstehungskirche. \nDa die Sanierungsarbeiten leider bis Mai noch nicht abgeschlossen sein werden\,\nfindet das Konzert in der Nachbargemeinde Innsbruck-Christuskirche statt. \nAlle sind herzlich eingeladen! \nEintritt: Freiwillige Spenden \nder Erlös ist zugunsten der Sanierung der Auferstehungskirche
URL:https://www.sichtbar-evangelisch.at/event/benefiz-akkordeon-konzert/
LOCATION:OEZ Christuskirche Tirol\, Martin-Luther-Platz 1\, Innsbruck\, Tirol\, 6020\, Österreich
ORGANIZER;CN="OEZ Christuskirche":MAILTO:oez@innsbruck-christuskirche.at
END:VEVENT
BEGIN:VEVENT
DTSTART;TZID=Europe/Vienna:20240526T090000
DTEND;TZID=Europe/Vienna:20240526T170000
DTSTAMP:20260419T235009
CREATED:20240410T072332Z
LAST-MODIFIED:20240410T073623Z
UID:6816-1716714000-1716742800@www.sichtbar-evangelisch.at
SUMMARY:Diözesan- und Gustav-Adolf-Fest 
DESCRIPTION:Die Evangelische Pfarrgemeinde Jenbach lädt herzlich ein zum \n60 jährigen Jubiläumsfest der Erlöskirche Jenbach\n  \nFestprogramm: \n\n09:30  Willkommen in Jenbach\n10:00  Festgottesdienst und Kindergottesdienst mit\n             Bischof Michael Chalupka\, Dekanin Birgit Hamrich\, Pfarrerin Andrea Petritsch\n11:15  Umzug durch Jenbach zum Veranstaltungszentrum\n             Delegiertenversammlung des Gustav-Adolf-Vereins Salzburg-Tirol\n12:00  Grußworte im Veranstaltungszentrum\n12:30  Mittagessen\, anschließend Kaffee und Kuchen\n13:30  Nachmittagsprogramm: Videoschau\, Kirche in der Zukunft\, Clownin Rossa\,\n             Trachtenverein\n             parallel dazu Kinder- und Jugendprogramm: Escape-Room\, Actionbound\n16:00  Reisesegen / Superintendent Olivier Dantine\n\nEs wird um eine Teilnahmebestätigung bis 17. Mai 2024 gebeten.\nUnter: 05244/62448 oder per Mail: pg.jenbach@evang.at
URL:https://www.sichtbar-evangelisch.at/event/dioezesan-und-gustav-adolf-fest/
LOCATION:Evang. Erlöskirche Jenbach\, Martin-Luther-Platz 1\, Jenbach\, Tirol\, 6200\, Österreich
ATTACH;FMTTYPE=application/pdf:https://www.sichtbar-evangelisch.at/wp-content/uploads/2024/04/Plakat-A4-gruen.pdf
ORGANIZER;CN="Pfarrgemeinde Jenbach":MAILTO:jenbach@evang.at
END:VEVENT
END:VCALENDAR