BEGIN:VCALENDAR
VERSION:2.0
PRODID:-//Evangelische Kirche - ECPv6.3.5//NONSGML v1.0//EN
CALSCALE:GREGORIAN
METHOD:PUBLISH
X-ORIGINAL-URL:https://www.sichtbar-evangelisch.at
X-WR-CALDESC:Veranstaltungen für Evangelische Kirche
REFRESH-INTERVAL;VALUE=DURATION:PT1H
X-Robots-Tag:noindex
X-PUBLISHED-TTL:PT1H
BEGIN:VTIMEZONE
TZID:Europe/Vienna
BEGIN:DAYLIGHT
TZOFFSETFROM:+0100
TZOFFSETTO:+0200
TZNAME:CEST
DTSTART:20230326T010000
END:DAYLIGHT
BEGIN:STANDARD
TZOFFSETFROM:+0200
TZOFFSETTO:+0100
TZNAME:CET
DTSTART:20231029T010000
END:STANDARD
END:VTIMEZONE
BEGIN:VEVENT
DTSTART;TZID=Europe/Vienna:20230214T190000
DTEND;TZID=Europe/Vienna:20230214T200000
DTSTAMP:20260420T155006
CREATED:20230116T091456Z
LAST-MODIFIED:20230116T091456Z
UID:6551-1676401200-1676404800@www.sichtbar-evangelisch.at
SUMMARY:Ökumenischer Segnungsgottesdienst zum Valentinstag - Liebe feiern und segnen
DESCRIPTION:Ab 17.30 und nach dem Gottesdienst Segenszeit in der Spitalskirche – sich segnen lassen\, einander segnen.
URL:https://www.sichtbar-evangelisch.at/event/oekumenischer-segnungsgottesdienst-zum-valentinstag-liebe-feiern-und-segnen/
LOCATION:Spitalskirche Innsbruck\, Maria-Theresien-Straße 2\, Innsbruck\, 6020\, Österreich
ATTACH;FMTTYPE=image/jpeg:https://www.sichtbar-evangelisch.at/wp-content/uploads/2023/01/Plakat-Valentinstag-2023_1-scaled.jpg
END:VEVENT
BEGIN:VEVENT
DTSTART;TZID=Europe/Vienna:20230224T190000
DTEND;TZID=Europe/Vienna:20230224T200000
DTSTAMP:20260420T155006
CREATED:20230214T083037Z
LAST-MODIFIED:20230214T091553Z
UID:6564-1677265200-1677268800@www.sichtbar-evangelisch.at
SUMMARY:Ökumenisches Friedensgebet für die Ukraine und die ganze Welt
DESCRIPTION:
URL:https://www.sichtbar-evangelisch.at/event/oekumenisches-friedensgebet-fuer-die-ukraine-und-die-ganze-welt/
LOCATION:Dom zu St. Jakob\, Innsbruck\, Domplatz\, Innsbruck\, 6020
ATTACH;FMTTYPE=image/jpeg:https://www.sichtbar-evangelisch.at/wp-content/uploads/2023/02/Plakat-Friedensgebet-2023-02-24.jpg
END:VEVENT
END:VCALENDAR