BEGIN:VCALENDAR
VERSION:2.0
PRODID:-//Evangelische Kirche - ECPv6.3.5//NONSGML v1.0//EN
CALSCALE:GREGORIAN
METHOD:PUBLISH
X-ORIGINAL-URL:https://www.sichtbar-evangelisch.at
X-WR-CALDESC:Veranstaltungen für Evangelische Kirche
REFRESH-INTERVAL;VALUE=DURATION:PT1H
X-Robots-Tag:noindex
X-PUBLISHED-TTL:PT1H
BEGIN:VTIMEZONE
TZID:Europe/Vienna
BEGIN:DAYLIGHT
TZOFFSETFROM:+0100
TZOFFSETTO:+0200
TZNAME:CEST
DTSTART:20220327T010000
END:DAYLIGHT
BEGIN:STANDARD
TZOFFSETFROM:+0200
TZOFFSETTO:+0100
TZNAME:CET
DTSTART:20221030T010000
END:STANDARD
END:VTIMEZONE
BEGIN:VEVENT
DTSTART;TZID=Europe/Vienna:20221103T140000
DTEND;TZID=Europe/Vienna:20221103T170000
DTSTAMP:20260420T223627
CREATED:20221021T070956Z
LAST-MODIFIED:20221021T070956Z
UID:6476-1667484000-1667494800@www.sichtbar-evangelisch.at
SUMMARY:Halleiner Seniorentag 2023
DESCRIPTION:Nach langer Corona-Pause – laden wir herzlich zum diesjährigen Seniorentag ein. \n  \nGemütliches Zusammensitzen bei Musik\, Kaffee und Kuchen\nsowie mit einem Vortrag von Benjamin Huber\nzum Thema „Hallein in alten Ansichten“ \n  \nEintritt ist frei – Spenden erbeten
URL:https://www.sichtbar-evangelisch.at/event/halleiner-seniorentag-2023/
LOCATION:Tirol
END:VEVENT
BEGIN:VEVENT
DTSTART;TZID=Europe/Vienna:20221106T160000
DTEND;TZID=Europe/Vienna:20221106T183000
DTSTAMP:20260420T223627
CREATED:20221021T073047Z
LAST-MODIFIED:20221021T074111Z
UID:6484-1667750400-1667759400@www.sichtbar-evangelisch.at
SUMMARY:Konzert "ELIAS" Cantorey Salzburg
DESCRIPTION:Oratorium Felix Mendelssohn-Bartholdy \n  \nCantorey Salzburg und\nNeuer Chor Berlin Alt-Schöneberg (Einstudierung Sebastian Brendel) \nIn der St. Andrä Kirche\nMirabellplatz Salzburg \nElectra Locheard – Sopran\nKatrin Heles – Alt\nAlexander Hüttner – Tenor\nJakob Hoffmann – Bass\nCapella 1846\nGordon Safari – Dirigent \nPreis: 18-36 €\nErmäßigungen für Pensionist*innen\,\n5€ Student*innen \n  \nKartenreservierung unter: 0699 / 188 77 870 oder unter:\nkarten@evangelischekirchenmusik.at
URL:https://www.sichtbar-evangelisch.at/event/konzert-elias-cantorey-salzburg/
LOCATION:St.Andrä\, Mirabellplatz
END:VEVENT
BEGIN:VEVENT
DTSTART;TZID=Europe/Vienna:20221109T180000
DTEND;TZID=Europe/Vienna:20221109T193000
DTSTAMP:20260420T223627
CREATED:20221021T073958Z
LAST-MODIFIED:20221021T073958Z
UID:6489-1668016800-1668022200@www.sichtbar-evangelisch.at
SUMMARY:Trauerkultur im Wandel
DESCRIPTION:„Verwundet und aufgehoben“ – Gottesdienst \nDie hellen und dunklen Momente\, die heiteren und schwierigen Zeiten\, die Vielfalt des Lebens – sie werden uns bewusst\, wenn jemand Nahestehender stirbt.\nDie Bibel und die christliche Tradition des Gebets sind Kraftquellen\, die nach dem Suizid eines lieben Menschen tragen. \nÖkumenischer Gottesdienst in der Emmauskapelle von St. Virgil\nfür Menschen\, die jemanden durch Suizid verloren haben. \n  \nAnmeldung in St. Virgil unter: 0662 / 65901-514 oder\nper Mail an: enmeldung@virgil.at \nVeranstaltungsnummer: 22-0927
URL:https://www.sichtbar-evangelisch.at/event/trauerkultur-im-wandel/
LOCATION:St. Virgil Bildungs- und Konferenzzentrum\, Ernst-Grein-Straße 14\, Salzburg\, Salzburg\, 5026\, Österreich
END:VEVENT
BEGIN:VEVENT
DTSTART;TZID=Europe/Vienna:20221109T190000
DTEND;TZID=Europe/Vienna:20221109T210000
DTSTAMP:20260420T223627
CREATED:20221021T075546Z
LAST-MODIFIED:20221021T075546Z
UID:6502-1668020400-1668027600@www.sichtbar-evangelisch.at
SUMMARY:Kaddisch - Gedenken an die Novemberpogrome 1938
DESCRIPTION:In der Nacht vom 9. auf den 10. November 2022 jährt sich zum 84. Mal jene grausame Nacht\, in der die jüdische BevölkerungDeutschlands für rechtlos erklärt wurde.\nWer sich mit uns erinnern und ein Zeichen setzten will\, ist eingeladen an diesem Abend in die Kollegienkirche zu kommen \n  \nLesung der österr. Schauspielerin Dagmar Schwarz (Wien)\, Enkelin des Shoah-Opfers Walter Schwarz \nMusikalische Gestaltung: Ensemble BachWerkVokal Salzburg unter der LEitung von Gordon Safari \n  \nEintritt ist frei – Spenden erbeten
URL:https://www.sichtbar-evangelisch.at/event/kaddisch-gedenken-an-die-novemberpogrome-1938/
LOCATION:Kollegienkirche Salzburg\, Universitätsplatz\, Salzburg\, Salzburg\, 5020\, Österreich
END:VEVENT
BEGIN:VEVENT
DTSTART;TZID=Europe/Vienna:20221110T190000
DTEND;TZID=Europe/Vienna:20221110T213000
DTSTAMP:20260420T223627
CREATED:20221021T061709Z
LAST-MODIFIED:20221021T061709Z
UID:6448-1668106800-1668115800@www.sichtbar-evangelisch.at
SUMMARY:Benefizkonzert für Flüchtlinge aus der Ukraine
DESCRIPTION:Ein buntes Konzert für Menschen aus der Ukraine\, die flüchten mussten und in Innsbruck und Umgebung ein „Zuhause“ gefunden haben. \nMit Texten und Klängen aus der Ukraine\, präsentiert und schwungvoll Vorgetragen von Kohelet 3 und anderen. \n  \nEintritt ist frei! \nFreiwillige Spenden erbeten
URL:https://www.sichtbar-evangelisch.at/event/benefizkonzert-fuer-fluechtlinge-aus-der-ukraine/
LOCATION:OEZ Christuskirche Tirol\, Martin-Luther-Platz 1\, Innsbruck\, Tirol\, 6020\, Österreich
ORGANIZER;CN="OEZ Christuskirche":MAILTO:oez@innsbruck-christuskirche.at
END:VEVENT
BEGIN:VEVENT
DTSTART;TZID=Europe/Vienna:20221111T190000
DTEND;TZID=Europe/Vienna:20221111T220000
DTSTAMP:20260420T223627
CREATED:20221021T061656Z
LAST-MODIFIED:20221021T080815Z
UID:6450-1668193200-1668204000@www.sichtbar-evangelisch.at
SUMMARY:Teach Peace: Montessori Friedenskonzert
DESCRIPTION:Der Verein Brückenpfeiler lädt herzlich zum Teach Peace Friedenskonzert 2022 ein\, \nmit Musik von Kohelet 3 und Texten zum Thema Frieden\, gelesen von Kindern und Lehrer*innen der Montessorischule Innsbruck \nSpendenempfehlung € 20\,– \nKinder und Jugendliche frei
URL:https://www.sichtbar-evangelisch.at/event/teach-peace-montessori-friedenskonzert/
LOCATION:OEZ Christuskirche Tirol\, Martin-Luther-Platz 1\, Innsbruck\, Tirol\, 6020\, Österreich
END:VEVENT
BEGIN:VEVENT
DTSTART;TZID=Europe/Vienna:20221112T193000
DTEND;TZID=Europe/Vienna:20221112T220000
DTSTAMP:20260420T223627
CREATED:20221021T061614Z
LAST-MODIFIED:20221021T061614Z
UID:6454-1668281400-1668290400@www.sichtbar-evangelisch.at
SUMMARY:Violinkonzert mit Julian Walder
DESCRIPTION:Julian Walder ist 2000 in Wien geboren und bekam seinen ersten Violine-Unterricht im Alter von 5 Jahren. Als mehrfacher Gewinner von „prima la musica“ in Österreich mit max. Punktezahl und weiteren Sonderpreisen\, sowie durch die Hochbegabtenförderung von „prima la musica Wien“ führte es ihn in versch. Konzerthäuser dieser Welt. \nBei diesem Konzert präsentiert Julian\, begleitet von Elias Praxmarer an der Orgel\, Werke von Vitali\, Piazolla und Reger \n  \nTickets: VVK 17\,– € / AK 20\,– € / Student*innen 10\,–€ \nKontakt: konzertmanagement@kabsi.at\noder unter: 0676 / 6737254
URL:https://www.sichtbar-evangelisch.at/event/violinkonzert-mit-julian-walder/
LOCATION:OEZ Christuskirche Tirol\, Martin-Luther-Platz 1\, Innsbruck\, Tirol\, 6020\, Österreich
ORGANIZER;CN="OEZ Christuskirche":MAILTO:oez@innsbruck-christuskirche.at
END:VEVENT
BEGIN:VEVENT
DTSTART;TZID=Europe/Vienna:20221115T190000
DTEND;TZID=Europe/Vienna:20221115T203000
DTSTAMP:20260420T223627
CREATED:20221021T074703Z
LAST-MODIFIED:20221021T074703Z
UID:6496-1668538800-1668544200@www.sichtbar-evangelisch.at
SUMMARY:Putins neue Weltordnung - Vortrag
DESCRIPTION:Wie kann der Krieg in der Ukraine aus der Perspektive des Kampfes Russlands gegen\, die bestehende Weltordnung betrachtet werden\,\nwas ist die russische Sicht auf USA\, NATO und die EU und wie sollte Putins Sicht\, die Welt neu geordnet werden? \n  \nReferentin: Dr. Doris Wydra\, Universität Salzburg\, Institut für Politikwissenschaft \n  \nEintritt frei – Spenden erbeten
URL:https://www.sichtbar-evangelisch.at/event/putins-neue-weltordnung-vortrag/
LOCATION:Salzburg Christuskirche\, Schwarzstraße 25\, Salzburg\, Salzburg\, 5020\, Österreich
ORGANIZER;CN="Salzburg Christuskirche":MAILTO:office@christuskirch.at
END:VEVENT
BEGIN:VEVENT
DTSTART;TZID=Europe/Vienna:20221119T190000
DTEND;TZID=Europe/Vienna:20221119T203000
DTSTAMP:20260420T223627
CREATED:20221021T071415Z
LAST-MODIFIED:20221021T071415Z
UID:6481-1668884400-1668889800@www.sichtbar-evangelisch.at
SUMMARY:neunzehn.neunzehn
DESCRIPTION:In der Konzertreihe 19.19 heißt das Thema \n„19 Lieder für den Frieden“ \nMit versch. großartigen Liedern und Texten zum Frieden \nBerndt Leopolder – Gitarre\nSilke Stein – Gesang\, Klavier und Rezitation \n  \nEintritt frei – Spenden erbeten
URL:https://www.sichtbar-evangelisch.at/event/neunzehn-neunzehn/
LOCATION:Pfarrgemeinde Hallein\, Davisstraße 38\, Hallein\, Salzburg\, 5400\, Österreich
ORGANIZER;CN="Pfarrgemeinde Hallein":MAILTO:evang.hallein@sbg.at
END:VEVENT
BEGIN:VEVENT
DTSTART;TZID=Europe/Vienna:20221122T190000
DTEND;TZID=Europe/Vienna:20221122T203000
DTSTAMP:20260420T223627
CREATED:20221021T074948Z
LAST-MODIFIED:20221021T074948Z
UID:6499-1669143600-1669149000@www.sichtbar-evangelisch.at
SUMMARY:Die Naturwelt der Alpen - Vortrag
DESCRIPTION:Referent: Univ. Prof. i.R. Dr. Roman Türk \ngenauere Infos folgen! \nEintritt frei – Spenden erbeten
URL:https://www.sichtbar-evangelisch.at/event/die-naturwelt-der-alpen-vortrag/
LOCATION:Salzburg Christuskirche\, Schwarzstraße 25\, Salzburg\, Salzburg\, 5020\, Österreich
END:VEVENT
BEGIN:VEVENT
DTSTART;TZID=Europe/Vienna:20221126T090000
DTEND;TZID=Europe/Vienna:20221126T173000
DTSTAMP:20260420T223627
CREATED:20221021T080706Z
LAST-MODIFIED:20221021T080706Z
UID:6510-1669453200-1669483800@www.sichtbar-evangelisch.at
SUMMARY:Von Unterach zum Egelsee
DESCRIPTION:Wanderung von Unterach am Attersee zum Egelsee \n  \nReizvolle Herbstrunde oberhalb des Westufers des Attersees \nWF: Helmut Lergárt \nTreffpunkt: 9 Uhr in der Christuskirche Salzburg \nGehzeit ca.: 4 Std. \, 500 Hm\, 11 km (BW) \n  \nKontakt unter: \nChristian Pointl: 0664 / 351 4608\nHelmut Ligárt: 0699 / 10 625 880
URL:https://www.sichtbar-evangelisch.at/event/von-unterach-zum-egelsee/
LOCATION:Salzburg Christuskirche\, Schwarzstraße 25\, Salzburg\, Salzburg\, 5020\, Österreich
ORGANIZER;CN="Salzburg Christuskirche":MAILTO:office@christuskirch.at
END:VEVENT
END:VCALENDAR