BEGIN:VCALENDAR
VERSION:2.0
PRODID:-//Evangelische Kirche - ECPv6.3.5//NONSGML v1.0//EN
CALSCALE:GREGORIAN
METHOD:PUBLISH
X-WR-CALNAME:Evangelische Kirche
X-ORIGINAL-URL:https://www.sichtbar-evangelisch.at
X-WR-CALDESC:Veranstaltungen für Evangelische Kirche
REFRESH-INTERVAL;VALUE=DURATION:PT1H
X-Robots-Tag:noindex
X-PUBLISHED-TTL:PT1H
BEGIN:VTIMEZONE
TZID:Europe/Vienna
BEGIN:DAYLIGHT
TZOFFSETFROM:+0100
TZOFFSETTO:+0200
TZNAME:CEST
DTSTART:20210328T010000
END:DAYLIGHT
BEGIN:STANDARD
TZOFFSETFROM:+0200
TZOFFSETTO:+0100
TZNAME:CET
DTSTART:20211031T010000
END:STANDARD
END:VTIMEZONE
BEGIN:VEVENT
DTSTART;TZID=Europe/Vienna:20210530T180000
DTEND;TZID=Europe/Vienna:20210530T190000
DTSTAMP:20260423T140247
CREATED:20210526T070953Z
LAST-MODIFIED:20210526T070953Z
UID:6066-1622397600-1622401200@www.sichtbar-evangelisch.at
SUMMARY:ORGELPUNKT 2021
DESCRIPTION:Johann Sebastian Bach – Dritter Teil der Clavier-Übung \nProf. Matthias Neumann – Orgel\nEnsemble BachWerkVokal\nGordon Safari – Leitung und Cembalo \n  \nDer Eintritt ist frei – Spenden werden erbeten \nBitte beachten Sie die 3G-Regeln!\nAnmeldung notwendig unter: 0699 / 188 77 870 \n 
URL:https://www.sichtbar-evangelisch.at/event/orgelpunkt-2021/
LOCATION:Tirol
ORGANIZER;CN="Evang. Kirchenmusik Salzburg / Tirol":MAILTO:info@evangelischekirchenmusik.at
END:VEVENT
END:VCALENDAR