BEGIN:VCALENDAR
VERSION:2.0
PRODID:-//Evangelische Kirche - ECPv6.3.5//NONSGML v1.0//EN
CALSCALE:GREGORIAN
METHOD:PUBLISH
X-ORIGINAL-URL:https://www.sichtbar-evangelisch.at
X-WR-CALDESC:Veranstaltungen für Evangelische Kirche
REFRESH-INTERVAL;VALUE=DURATION:PT1H
X-Robots-Tag:noindex
X-PUBLISHED-TTL:PT1H
BEGIN:VTIMEZONE
TZID:Europe/Vienna
BEGIN:DAYLIGHT
TZOFFSETFROM:+0100
TZOFFSETTO:+0200
TZNAME:CEST
DTSTART:20210328T010000
END:DAYLIGHT
BEGIN:STANDARD
TZOFFSETFROM:+0200
TZOFFSETTO:+0100
TZNAME:CET
DTSTART:20211031T010000
END:STANDARD
END:VTIMEZONE
BEGIN:VEVENT
DTSTART;TZID=Europe/Vienna:20210118T200000
DTEND;TZID=Europe/Vienna:20210118T210000
DTSTAMP:20260424T005211
CREATED:20210112T164317Z
LAST-MODIFIED:20210112T164317Z
UID:5965-1611000000-1611003600@www.sichtbar-evangelisch.at
SUMMARY:Tag des Judentums - Online-Veranstaltung
DESCRIPTION:Das Wort des Herrn bleibet – Zur Bedeutung der Tora für das Judentum und Christentum.\nDie Veranstaltung zum Tag des Judentums in Innsbruck findet in diesem Jahr online statt.\nReferenten:\nSuperintendent Olivier Dantine\nOberrabbiner Jaron Engelmayer (Wien)\nAnna Kraml (Doktorandin in alttestamentlicher Bibelwissenschaft in Innsbruck) \nhttps://webconference.uibk.ac.at/b/rom-aon-obb-vfi
URL:https://www.sichtbar-evangelisch.at/event/tag-des-judentums-online-veranstaltung/
LOCATION:online
CATEGORIES:Allgemeine Veranstaltungen
ATTACH;FMTTYPE=image/jpeg:https://www.sichtbar-evangelisch.at/wp-content/uploads/2019/12/torah-89074_1280.jpg
END:VEVENT
END:VCALENDAR