BEGIN:VCALENDAR
VERSION:2.0
PRODID:-//Evangelische Kirche - ECPv6.3.5//NONSGML v1.0//EN
CALSCALE:GREGORIAN
METHOD:PUBLISH
X-ORIGINAL-URL:https://www.sichtbar-evangelisch.at
X-WR-CALDESC:Veranstaltungen für Evangelische Kirche
REFRESH-INTERVAL;VALUE=DURATION:PT1H
X-Robots-Tag:noindex
X-PUBLISHED-TTL:PT1H
BEGIN:VTIMEZONE
TZID:Europe/Vienna
BEGIN:DAYLIGHT
TZOFFSETFROM:+0100
TZOFFSETTO:+0200
TZNAME:CEST
DTSTART:20260329T010000
END:DAYLIGHT
BEGIN:STANDARD
TZOFFSETFROM:+0200
TZOFFSETTO:+0100
TZNAME:CET
DTSTART:20261025T010000
END:STANDARD
END:VTIMEZONE
BEGIN:VEVENT
DTSTART;TZID=Europe/Vienna:20260621T090000
DTEND;TZID=Europe/Vienna:20260621T170000
DTSTAMP:20260420T185436
CREATED:20260408T100038Z
LAST-MODIFIED:20260408T100038Z
UID:7353-1782032400-1782061200@www.sichtbar-evangelisch.at
SUMMARY:Save-The-Date:  "Gustav-Adolf-Fest 2026"
DESCRIPTION:unter dem Motto: „Der Schatz im Acker“ lädt die Pfarrgemeinde Innsbruck-Auferstehungskirche\nherzlich zum diesjährigen Gustav-Adolf-Fest 2026 ein.  \nEs beginnt mit dem Festgottesdienst um 10:00 Uhr in der Auferstehungskirche Innsbruck mit\nSuperintendenten Mag. Olivier Dantine.\nein besonderer Höhepunkt des Gottesdienstes wird die Videobotschaft von Bischöfin Prof.in Dr.in Cornelia Richter sein. \nAnschließend ladet die Pfarrgemeinde zu versch. abwechslungsreichen Programm für Jung und Alt ein.\n(Gemeinsames Singen\, Stadtführung\, usw.) \nFür das leibliche Wohl ist bestens gesorgt.  \nDen krönenden Abschluss bildet schließlich um 16 Uhr der Reisesegen.
URL:https://www.sichtbar-evangelisch.at/event/save-the-date-gustav-adolf-fest-2026/
LOCATION:Auferstehungskirche Innsbruck\, Gutshofweg 8\, Innsbruck\, Tirol\, 6020\, Österreich
ATTACH;FMTTYPE=image/jpeg:https://www.sichtbar-evangelisch.at/wp-content/uploads/2026/04/gaf-plakat.jpg
END:VEVENT
BEGIN:VEVENT
DTSTART;TZID=Europe/Vienna:20260626T100000
DTEND;TZID=Europe/Vienna:20260626T173000
DTSTAMP:20260420T185436
CREATED:20260408T082919Z
LAST-MODIFIED:20260408T094614Z
UID:7325-1782468000-1782495000@www.sichtbar-evangelisch.at
SUMMARY:"Einfach heiraten\, Segen für Lang- & Kurzentschlossene"
DESCRIPTION:am Jakobskreuz auf der Buchensteinwand im Pillerseetal \nDas Jakobskreuz ist das weltweit größte begehbare Gipfelkreuz.\nDort\, an der Buchensteinwand hoch über dem Pillerseetal und Hochfilzen\nmit prächtiger Aussicht über die Kitzbüheler Alpen bis hin zum Großglockner. \nPfrn. Rahel Hahn (Pinzgau)\nPfr. Thomas Müller (Kufstein) und\nPfr. Olivier Dantine (Kitzbühel)\nladen sie ein\, Ihnen den kirchlichen Segen mitzugeben.\nKommen Sie gerne spontan oder auch mit Voranmeldung (an : kitzbuehel@evang.at ) vorbei. \nWenn möglich\, finden alle Hochzeiten und Segnungen draußen statt\, bei Schlechtwetter im Jakobskreuz selbst. \n\nSelbstverständlich sind ALLE Paare willkommen: \n– Standesamtliche Verheiratete\, die sich noch eine kirchliche Trauung wünschen\n– Verliebte und Verlobte\, die spontan oder unkompliziert den Bund fürs Leben schließen wollen.\n– Jubiläumspaare\, die ihr Versprechen nach vielen Jahren feierlich erneuern möchten.\n– Partnerschaften\, die einfach „Danke“ sagen und ihre Liebe segnen lassen wollen \nAblauf: \nDas Pfarrerteam erwartet Sie zwischen 10:00-17:40 Uhr direkt am Jakobskreuz.\nIn einem persönlichen Vorgespräch (ca. 20 Min.) nehmen wir uns Sie.\nDanach folgt die ca. 20-minutige Trauung od. Segnung – untermalt von stimmungsvoller Live-Musik.\nIm Anschluss gibt es einen kleinen Sektempfang. \nWas Sie brauchen: \n1. Ihren Lichtbildausweis\n2. Für die kirchliche Trauung: Die standesamtliche Trauurkunde (min. 1. Partner/in sollte evang. sein)\n3. Für eine Segnung: Nur die Absicht\, sich etwas Gutes zusprechen zu lassen.\n4. Einen kleinen Beitrag: Ein Unkostenbeitrag von € 25\,00 pro Paar (inkl. Musik und Sektempfang)   \nAlle und weitere Informationen bzw. Anmeldung finden sie unter:\nevangkitzbuehel.info/gottesdienste-und-veranstaltungen/einfach-heiraten
URL:https://www.sichtbar-evangelisch.at/event/einfach-heiraten-segen-fuer-lang-kurzentschlossene/
LOCATION:Jakobskreuz\, Buchenstein 13\, St. Ullrich am Pillersee\, Tirol\, 6393\, Österreich
ATTACH;FMTTYPE=image/png:https://www.sichtbar-evangelisch.at/wp-content/uploads/2026/04/kreuzkirche.png
END:VEVENT
END:VCALENDAR