BEGIN:VCALENDAR
VERSION:2.0
PRODID:-//Evangelische Kirche - ECPv6.3.5//NONSGML v1.0//EN
CALSCALE:GREGORIAN
METHOD:PUBLISH
X-WR-CALNAME:Evangelische Kirche
X-ORIGINAL-URL:https://www.sichtbar-evangelisch.at
X-WR-CALDESC:Veranstaltungen für Evangelische Kirche
REFRESH-INTERVAL;VALUE=DURATION:PT1H
X-Robots-Tag:noindex
X-PUBLISHED-TTL:PT1H
BEGIN:VTIMEZONE
TZID:Europe/Vienna
BEGIN:DAYLIGHT
TZOFFSETFROM:+0100
TZOFFSETTO:+0200
TZNAME:CEST
DTSTART:20260329T010000
END:DAYLIGHT
BEGIN:STANDARD
TZOFFSETFROM:+0200
TZOFFSETTO:+0100
TZNAME:CET
DTSTART:20261025T010000
END:STANDARD
END:VTIMEZONE
BEGIN:VEVENT
DTSTART;TZID=Europe/Vienna:20260425T090000
DTEND;TZID=Europe/Vienna:20260425T130000
DTSTAMP:20260420T114456
CREATED:20260408T090206Z
LAST-MODIFIED:20260408T090206Z
UID:7337-1777107600-1777122000@www.sichtbar-evangelisch.at
SUMMARY:Interaktiver Workshop mit der Plattform für Menschenrechte und der amnesty international Regionalgruppe Salzburg
DESCRIPTION:„Menschenrechte verstehen\, einordnen\, leben“ \nMenschenrechte sind unveräußerlich\, unteilbar und universell. Und doch werden sie heute für wenige – und damit letztlich für alle – zunehmend offen\, wiederholt und gezielt in Frage gestellt. Was bedeutet das in Zeiten geopolitischer Verschiebungen und wachsender autoritärer Tendenzen? Auf welchen rechtlichen Prinzipien und internationalen Konventionen beruhen Menschenrechte tatsächlich – und wo liegen ihre Grenzen in der politischen Praxis? \nIn einem interaktiven Workshop des Evangelischen Bildungswerks Tirol & Salzburg in Kooperation mit der Plattform für Menschenrechte und der amnesty international Regionalgruppe Salzburg knüpfen wir an aktuelle regionale Menschenrechtsarbeit an. Wir unterscheiden verbreitete Annahmen und Missverständnisse von den rechtlichen Grundlagen und institutionellen Mechanismen der Menschenrechte und erarbeiten gemeinsam Ansatzpunkte für eine menschenrechtsbasierte Haltung im Alltag.\nDenn Menschenrechte sind kein abstraktes Ideal. Sie bestehen nur dort\, wo sie bekannt sind\, eingefordert werden – und jeden Tag neu verteidigt werden. \nZeit: 09:00 – 13:00 Uhr\nUnkostenbeitrag: 15 €/Person \nVerbindliche Anmeldung unter: T: 0699 188 77870 oder per Mail: sekretariat@ebw-salzburg.at
URL:https://www.sichtbar-evangelisch.at/event/interaktiver-workshop-mit-der-plattform-fuer-menschenrechte-und-der-amnesty-international-regionalgruppe-salzburg/
LOCATION:Pfarrgemeinde Hallein\, Davisstraße 38\, Hallein\, Salzburg\, 5400\, Österreich
ATTACH;FMTTYPE=image/png:https://www.sichtbar-evangelisch.at/wp-content/uploads/2026/04/menschenrechte-salzburg-at_Logo.png
END:VEVENT
BEGIN:VEVENT
DTSTART;TZID=Europe/Vienna:20260425T180000
DTEND;TZID=Europe/Vienna:20260425T193000
DTSTAMP:20260420T114456
CREATED:20260408T100855Z
LAST-MODIFIED:20260408T100855Z
UID:7357-1777140000-1777145400@www.sichtbar-evangelisch.at
SUMMARY:Gitarrenkonzert
DESCRIPTION:Konzertabend mit Klaus Wladar   \nDer international konzertierende Gitarrist und mehrfache Preisträger renommierter Wettbewerbe präsentiert unter dem Titel\n»Recuerdos de la Alhambra – Zauber der klassischen Gitarre« ein Programm mit spanischen Klassikern\,\nTangos\, Bossa Nova und jazzinspiriertem Fingerstyle.  \nDer Eintritt ist frei\, es wird um freiwillige Spenden gebeten.
URL:https://www.sichtbar-evangelisch.at/event/gitarrenkonzert/
LOCATION:Johanneskirche\, Andreas-Hofer-Str. 6\, Kufstein\, Tirol\, 6330\, Österreich
ATTACH;FMTTYPE=image/jpeg:https://www.sichtbar-evangelisch.at/wp-content/uploads/2026/04/bild.jpg
END:VEVENT
END:VCALENDAR