BEGIN:VCALENDAR
VERSION:2.0
PRODID:-//Evangelische Kirche - ECPv6.3.5//NONSGML v1.0//EN
CALSCALE:GREGORIAN
METHOD:PUBLISH
X-ORIGINAL-URL:https://www.sichtbar-evangelisch.at
X-WR-CALDESC:Veranstaltungen für Evangelische Kirche
REFRESH-INTERVAL;VALUE=DURATION:PT1H
X-Robots-Tag:noindex
X-PUBLISHED-TTL:PT1H
BEGIN:VTIMEZONE
TZID:Europe/Vienna
BEGIN:DAYLIGHT
TZOFFSETFROM:+0100
TZOFFSETTO:+0200
TZNAME:CEST
DTSTART:20250330T010000
END:DAYLIGHT
BEGIN:STANDARD
TZOFFSETFROM:+0200
TZOFFSETTO:+0100
TZNAME:CET
DTSTART:20251026T010000
END:STANDARD
END:VTIMEZONE
BEGIN:VEVENT
DTSTART;TZID=Europe/Vienna:20250627T193000
DTEND;TZID=Europe/Vienna:20250627T220000
DTSTAMP:20260421T055050
CREATED:20250319T084312Z
LAST-MODIFIED:20250319T085738Z
UID:7039-1751052600-1751061600@www.sichtbar-evangelisch.at
SUMMARY:Kabarett: Aus 'heiterem' Himmel-mit der Kirche ums Kreuz
DESCRIPTION:Christlichen Feelgood-Kabarett von und mit Oliver Hochkofler und Imo Trojan \nHerzhaftes Lachen und wertschätzendes Miteinander sind beim christlichen Feelgood-Kabarett von Oliver Hochkofler und Imo Trojan garantiert. Erleben Sie Kirche aus ungewöhnlichen Blickwinkeln – mit viel Humor\, Musik und Augenzwinkern. \nAus ‚heiterem‘ Himmel – mit der Kirche ums Kreuz besteht aus verschiedensten Sketches eigener Comedy-Figuren aber auch Parodien prominenter Österreicher. \nDie Symbiose aus Humor\, Musik und Wissensvermittlung lässt das Publikum dabei einige echte Aha-Momente erleben und entlässt sie mit mehr Wissen über das Christentum und einem besseren Verständnis für die verschiedenen Konfessionen. Das überkonfessionelle Programm lädt alle ein\, die an unserer abendländischen Kultur interessiert sind und verspricht einen Abend mit richtig guter Laune! \nDie Künstler\nOliver Hochkofler\, seit über 25 Jahren im Bereich der Firmenkabaretts tätig\, und Journalist Imo Trojan bringen viel Erfahrung und Fingerspitzengefühl im Umgang mit Glauben und Menschen mit. Sie begeistern ihr Publikum\, wie beispielweise beim Reformationskabarett 2017 (über 80 Auftritte und mehr als 15.000 Zuschauer)\, mit Humor und Wortwitz\, der niemals unter der Gürtellinie ist. \nTickets\nVorverkauf: € 22 (ermäßigt für Schüler*innen und Student*innen: € 16)\nAbendkassa: € 25 (ermäßigt für Schüler*innen und Student*innen: € 18)\nReservierung/Vorbestellung für Tickets zum VVK-Preis: www.oliver-hochkofler.com/ticketbestellung\nTicket-Hotline: 0650/3553301\nAnmerkung: Haupt- und ehrenamtlich tätige Mitarbeitende der Christuskirche bekommen eine Eintrittskarte zum Kabarett im Rahmen des Mitarbeiter*innen-Empfangs geschenkt! \nDauer: ca. 2\,5 Stunden inkl. 30 Minuten Pause
URL:https://www.sichtbar-evangelisch.at/event/kabarett-aus-heiterem-himmel-mit-der-kirche-ums-kreuz/
LOCATION:Christuskirche Innsbruck\, Martin-Luther-Platz 1\, Innsbruck\, Tirol\, 6020\, Österreich
ATTACH;FMTTYPE=image/jpeg:https://www.sichtbar-evangelisch.at/wp-content/uploads/2025/03/Fr_27-scaled.jpg
END:VEVENT
END:VCALENDAR