BEGIN:VCALENDAR
VERSION:2.0
PRODID:-//Evangelische Kirche - ECPv6.3.5//NONSGML v1.0//EN
CALSCALE:GREGORIAN
METHOD:PUBLISH
X-ORIGINAL-URL:https://www.sichtbar-evangelisch.at
X-WR-CALDESC:Veranstaltungen für Evangelische Kirche
REFRESH-INTERVAL;VALUE=DURATION:PT1H
X-Robots-Tag:noindex
X-PUBLISHED-TTL:PT1H
BEGIN:VTIMEZONE
TZID:Europe/Vienna
BEGIN:DAYLIGHT
TZOFFSETFROM:+0100
TZOFFSETTO:+0200
TZNAME:CEST
DTSTART:20250330T010000
END:DAYLIGHT
BEGIN:STANDARD
TZOFFSETFROM:+0200
TZOFFSETTO:+0100
TZNAME:CET
DTSTART:20251026T010000
END:STANDARD
END:VTIMEZONE
BEGIN:VEVENT
DTSTART;TZID=Europe/Vienna:20250621T080000
DTEND;TZID=Europe/Vienna:20250622T170000
DTSTAMP:20260421T114558
CREATED:20250319T105412Z
LAST-MODIFIED:20250319T105412Z
UID:7101-1750492800-1750611600@www.sichtbar-evangelisch.at
SUMMARY:Interreligiöser Roadtrip: Pilgerfahrt mit Übernachtung für junge Menschen ab 14 – 30 Jahren
DESCRIPTION:Der Roadtrip der Religionen ist eine Kooperation zwischen der Katholischen Jungschar der Diözese Innsbruck\, dem Haus der Begegnung und dem Islamischen Forum \nInhalt:\nBesuch eines islamischen Friedhofes\,\njüdisches Museum Hohenems\,\nbuddhistisches Kloster\,\nMoschee\,\nFriedensglocke Mösern  \nAbfahrt ist am 21.06.2025 um 8:00 Uhr beim Haus der Begegnung\,\nmit Zustiegsmöglichkeiten im Tiroler Oberland –\nRückkehr ist am 22.06.2025 ca. 17:00 Uhr in Innsbruck \nWeitere Informationen und die Anmeldung findest du auf hdb.dibk.at \nKosten: € 69\,– p.P.
URL:https://www.sichtbar-evangelisch.at/event/interreligioeser-roadtrip-pilgerfahrt-mit-uebernachtung-fuer-junge-menschen-ab-14-30-jahren/
LOCATION:Haus der Begegnung Innsbruck\, Rennweg 12\, Innsbruck\, 6020\, Österreich
END:VEVENT
END:VCALENDAR