BEGIN:VCALENDAR
VERSION:2.0
PRODID:-//Evangelische Kirche - ECPv6.3.5//NONSGML v1.0//EN
CALSCALE:GREGORIAN
METHOD:PUBLISH
X-ORIGINAL-URL:https://www.sichtbar-evangelisch.at
X-WR-CALDESC:Veranstaltungen für Evangelische Kirche
REFRESH-INTERVAL;VALUE=DURATION:PT1H
X-Robots-Tag:noindex
X-PUBLISHED-TTL:PT1H
BEGIN:VTIMEZONE
TZID:Europe/Vienna
BEGIN:DAYLIGHT
TZOFFSETFROM:+0100
TZOFFSETTO:+0200
TZNAME:CEST
DTSTART:20240331T010000
END:DAYLIGHT
BEGIN:STANDARD
TZOFFSETFROM:+0200
TZOFFSETTO:+0100
TZNAME:CET
DTSTART:20241027T010000
END:STANDARD
END:VTIMEZONE
BEGIN:VEVENT
DTSTART;TZID=Europe/Vienna:20241019T093000
DTEND;TZID=Europe/Vienna:20241019T150000
DTSTAMP:20260420T091131
CREATED:20240911T093925Z
LAST-MODIFIED:20240911T094050Z
UID:6879-1729330200-1729350000@www.sichtbar-evangelisch.at
SUMMARY:Einladung zum Begegnungstag
DESCRIPTION:Thema: „Was bleibt? – Welche Spuren hinterlasse ich?“ \nReferentin: Pfarrerin Insa Rössler \nInsa Rössler ist Pfarrerin im Ehrenamt und Mitglied des Diözesanen Leitungsteams\nder Evangelischen Frauenarbeit Oberösterreich und Regionalverantwortliche\nfür den Ökumenischen Weltgebetstag der Frauen Österreich. \nAnmeldung bis 12. Oktober 2024 bei: \nCarola Tittelbach: 0677 / 620 62 958\nDoris Welther: 0699 / 188 77 564
URL:https://www.sichtbar-evangelisch.at/event/einladung-zum-begegnungstag/
LOCATION:Auferstehungskirche Innsbruck\, Gutshofweg 8\, Innsbruck\, Tirol\, 6020\, Österreich
ATTACH;FMTTYPE=image/jpeg:https://www.sichtbar-evangelisch.at/wp-content/uploads/2024/09/20240911_113528-scaled.jpg
END:VEVENT
END:VCALENDAR