BEGIN:VCALENDAR
VERSION:2.0
PRODID:-//Evangelische Kirche - ECPv6.3.5//NONSGML v1.0//EN
CALSCALE:GREGORIAN
METHOD:PUBLISH
X-WR-CALNAME:Evangelische Kirche
X-ORIGINAL-URL:https://www.sichtbar-evangelisch.at
X-WR-CALDESC:Veranstaltungen für Evangelische Kirche
REFRESH-INTERVAL;VALUE=DURATION:PT1H
X-Robots-Tag:noindex
X-PUBLISHED-TTL:PT1H
BEGIN:VTIMEZONE
TZID:Europe/Vienna
BEGIN:DAYLIGHT
TZOFFSETFROM:+0100
TZOFFSETTO:+0200
TZNAME:CEST
DTSTART:20220327T010000
END:DAYLIGHT
BEGIN:STANDARD
TZOFFSETFROM:+0200
TZOFFSETTO:+0100
TZNAME:CET
DTSTART:20221030T010000
END:STANDARD
END:VTIMEZONE
BEGIN:VEVENT
DTSTART;TZID=Europe/Vienna:20221106T160000
DTEND;TZID=Europe/Vienna:20221106T183000
DTSTAMP:20260421T033102
CREATED:20221021T073047Z
LAST-MODIFIED:20221021T074111Z
UID:6484-1667750400-1667759400@www.sichtbar-evangelisch.at
SUMMARY:Konzert "ELIAS" Cantorey Salzburg
DESCRIPTION:Oratorium Felix Mendelssohn-Bartholdy \n  \nCantorey Salzburg und\nNeuer Chor Berlin Alt-Schöneberg (Einstudierung Sebastian Brendel) \nIn der St. Andrä Kirche\nMirabellplatz Salzburg \nElectra Locheard – Sopran\nKatrin Heles – Alt\nAlexander Hüttner – Tenor\nJakob Hoffmann – Bass\nCapella 1846\nGordon Safari – Dirigent \nPreis: 18-36 €\nErmäßigungen für Pensionist*innen\,\n5€ Student*innen \n  \nKartenreservierung unter: 0699 / 188 77 870 oder unter:\nkarten@evangelischekirchenmusik.at
URL:https://www.sichtbar-evangelisch.at/event/konzert-elias-cantorey-salzburg/
LOCATION:St.Andrä\, Mirabellplatz
END:VEVENT
END:VCALENDAR