BEGIN:VCALENDAR
VERSION:2.0
PRODID:-//Evangelische Kirche - ECPv6.3.5//NONSGML v1.0//EN
CALSCALE:GREGORIAN
METHOD:PUBLISH
X-WR-CALNAME:Evangelische Kirche
X-ORIGINAL-URL:https://www.sichtbar-evangelisch.at
X-WR-CALDESC:Veranstaltungen für Evangelische Kirche
REFRESH-INTERVAL;VALUE=DURATION:PT1H
X-Robots-Tag:noindex
X-PUBLISHED-TTL:PT1H
BEGIN:VTIMEZONE
TZID:Europe/Vienna
BEGIN:DAYLIGHT
TZOFFSETFROM:+0100
TZOFFSETTO:+0200
TZNAME:CEST
DTSTART:20220327T010000
END:DAYLIGHT
BEGIN:STANDARD
TZOFFSETFROM:+0200
TZOFFSETTO:+0100
TZNAME:CET
DTSTART:20221030T010000
END:STANDARD
END:VTIMEZONE
BEGIN:VEVENT
DTSTART;TZID=Europe/Vienna:20220709T083000
DTEND;TZID=Europe/Vienna:20220709T170000
DTSTAMP:20260422T014205
CREATED:20220609T160544Z
LAST-MODIFIED:20220610T072532Z
UID:6342-1657355400-1657386000@www.sichtbar-evangelisch.at
SUMMARY:Schöpfungswanderung Seefeld
DESCRIPTION:Wir laden herzlich zur Schöpfungswanderung durch das “Klimatop” am Wildsee bei Seefeld und zu einer Andacht am Pfarrerbichl ein!\nProgramm:\n* Gemeinsame Bahnfahrt von Innsbruck Hauptbahnhof nach Seefeld um 8.30 Uhr\n(weiterer Treffpunkt Badeanstalt Wildsee um ca. 9.30 Uhr)\n* Anschließende Wanderung um den Wildsee mit Stationen zu verschiedenen Themen der\nSchöpfungsfreude und der Klimaproblematik.\n* Um ca. 11 Uhr Aufstieg (15 Minuten) zum Pfarrerbichl\, wo Pfarrer Hof eine Andacht halten wird.\n* Abstieg zur sehenswerten Pfarrkirche und eventuell gemeinsames Mittagessen in Seefeld.\n* Rückkehr nach Innsbruck im Laufe des Nachmittags.\nWir wollen bei jedem Wetter wandern\, daher sind entsprechende Kleidung\, gute Schuhe und eventuell\neine kleine Jause empfehlenswert (die Veranstalter übernehmen keinerlei Verantwortung).\nWir freuen uns auf Ihr Mitwandern! Ihr Pfarrer Bernd Hof und Werner Schwarz\nEinladung Schöpfungswanderung Seefeld \nVeranstaltung von:\nEvangelische Pfarrgemeinde Innsbruck-Christuskirche\nEvangelische Kirche in Salzburg und Tirol
URL:https://www.sichtbar-evangelisch.at/event/schoepfungswanderung-seefeld/
LOCATION:Seefeld\, Südtiroler Platz 7\, Innsbruck\, Tirol\, 6020\, Österreich
CATEGORIES:Allgemeine Veranstaltungen
ATTACH;FMTTYPE=image/jpeg:https://www.sichtbar-evangelisch.at/wp-content/uploads/2021/12/2022_Jahr_der_Schoepfung_3zeilig_gross_300dpi-scaled.jpg
END:VEVENT
END:VCALENDAR