BEGIN:VCALENDAR
VERSION:2.0
PRODID:-//Evangelische Kirche - ECPv6.3.5//NONSGML v1.0//EN
CALSCALE:GREGORIAN
METHOD:PUBLISH
X-WR-CALNAME:Evangelische Kirche
X-ORIGINAL-URL:https://www.sichtbar-evangelisch.at
X-WR-CALDESC:Veranstaltungen für Evangelische Kirche
REFRESH-INTERVAL;VALUE=DURATION:PT1H
X-Robots-Tag:noindex
X-PUBLISHED-TTL:PT1H
BEGIN:VTIMEZONE
TZID:Europe/Vienna
BEGIN:DAYLIGHT
TZOFFSETFROM:+0100
TZOFFSETTO:+0200
TZNAME:CEST
DTSTART:20200329T010000
END:DAYLIGHT
BEGIN:STANDARD
TZOFFSETFROM:+0200
TZOFFSETTO:+0100
TZNAME:CET
DTSTART:20201025T010000
END:STANDARD
END:VTIMEZONE
BEGIN:VEVENT
DTSTART;TZID=Europe/Vienna:20200607T100000
DTEND;TZID=Europe/Vienna:20200607T170000
DTSTAMP:20260424T222257
CREATED:20200120T141204Z
LAST-MODIFIED:20200430T063037Z
UID:5111-1591524000-1591549200@www.sichtbar-evangelisch.at
SUMMARY:Gustav-Adolf-Fest / Diözesanfest - Verschoben auf 2021!
DESCRIPTION:
URL:https://www.sichtbar-evangelisch.at/event/gustav-adolf-fest-dioezesanfest/
LOCATION:Bischofshofen\, Bischofshofen\, 5500
CATEGORIES:Allgemeine Veranstaltungen
ATTACH;FMTTYPE=image/png:https://www.sichtbar-evangelisch.at/wp-content/uploads/2020/01/images.png
END:VEVENT
END:VCALENDAR