BEGIN:VCALENDAR
VERSION:2.0
PRODID:-//Evangelische Kirche - ECPv6.3.5//NONSGML v1.0//EN
CALSCALE:GREGORIAN
METHOD:PUBLISH
X-WR-CALNAME:Evangelische Kirche
X-ORIGINAL-URL:https://www.sichtbar-evangelisch.at
X-WR-CALDESC:Veranstaltungen für Evangelische Kirche
REFRESH-INTERVAL;VALUE=DURATION:PT1H
X-Robots-Tag:noindex
X-PUBLISHED-TTL:PT1H
BEGIN:VTIMEZONE
TZID:Europe/Vienna
BEGIN:DAYLIGHT
TZOFFSETFROM:+0100
TZOFFSETTO:+0200
TZNAME:CEST
DTSTART:20200329T010000
END:DAYLIGHT
BEGIN:STANDARD
TZOFFSETFROM:+0200
TZOFFSETTO:+0100
TZNAME:CET
DTSTART:20201025T010000
END:STANDARD
END:VTIMEZONE
BEGIN:VEVENT
DTSTART;TZID=Europe/Vienna:20200412T050000
DTEND;TZID=Europe/Vienna:20200412T070000
DTSTAMP:20260425T025457
CREATED:20200407T090137Z
LAST-MODIFIED:20200407T090137Z
UID:5630-1586667600-1586674800@www.sichtbar-evangelisch.at
SUMMARY:Osternacht@home aus der Evangelischen Christuskirche in Innsbruck
DESCRIPTION:Die jährliche Osternacht ab 5 Uhr früh ist immer ein besonderes Highlight in der Christuskirche. Darauf wollen wir auch in Zeiten von „Dahoambleib‘n“ nicht verzichten. Darum produzieren wir die Osternacht heuer als Film. Sie dürfen sich auf tolle Musik freuen\, auf berührende Texte und auch aufs Mitsingen. \nWir laden Sie ein\, am Ostersonntag kurz vor 5 den Wecker zu stellen\, aufzustehen\, eine Kerze bereitzustellen\, die morgendlichen Gesänge der Vögel ins Zimmer zu lassen\, das Licht zu dimmen und das Video einzuschalten. \nDen Zugang zum Video finden Sie punkt 5 Uhr in der Früh auf der Website der Christuskirche www.innsbruck-christuskirche.at. Der Link steht am Ostersonntag auch allen SpätaufsteherInnen zur Verfügung. Wir freuen uns sehr\, wenn Sie mit dabei sind und dieses besondere Angebot auch in Ihrem Umfeld bewerben!
URL:https://www.sichtbar-evangelisch.at/event/osternachthome-aus-der-evangelischen-christuskirche-in-innsbruck/
LOCATION:OEZ Christuskirche Tirol\, Martin-Luther-Platz 1\, Innsbruck\, Tirol\, 6020\, Österreich
ATTACH;FMTTYPE=image/jpeg:https://www.sichtbar-evangelisch.at/wp-content/uploads/2020/04/Osternacht@home_ChristuskircheInnsbruck01s.jpg
END:VEVENT
END:VCALENDAR