BEGIN:VCALENDAR
VERSION:2.0
PRODID:-//Evangelische Kirche - ECPv6.3.5//NONSGML v1.0//EN
CALSCALE:GREGORIAN
METHOD:PUBLISH
X-WR-CALNAME:Evangelische Kirche
X-ORIGINAL-URL:https://www.sichtbar-evangelisch.at
X-WR-CALDESC:Veranstaltungen für Evangelische Kirche
REFRESH-INTERVAL;VALUE=DURATION:PT1H
X-Robots-Tag:noindex
X-PUBLISHED-TTL:PT1H
BEGIN:VTIMEZONE
TZID:Europe/Vienna
BEGIN:DAYLIGHT
TZOFFSETFROM:+0100
TZOFFSETTO:+0200
TZNAME:CEST
DTSTART:20200329T010000
END:DAYLIGHT
BEGIN:STANDARD
TZOFFSETFROM:+0200
TZOFFSETTO:+0100
TZNAME:CET
DTSTART:20201025T010000
END:STANDARD
END:VTIMEZONE
BEGIN:VEVENT
DTSTART;TZID=Europe/Vienna:20200307T100000
DTEND;TZID=Europe/Vienna:20200307T170000
DTSTAMP:20260425T042715
CREATED:20200115T084833Z
LAST-MODIFIED:20200115T085433Z
UID:5074-1583575200-1583600400@www.sichtbar-evangelisch.at
SUMMARY:HAGIOS: Seminar mit Helge Bruggrabe
DESCRIPTION:„Wenn einer aus seiner Seele singt\, heilt er zugleich seine innere Welt. Wenn alle aus ihrer Seele singen und eins sind in der Musik\, heilen sie zugleich auch die äußere Welt.” (Sir Yehudi Menuhin) \n  \nDieser Einkehrtag bietet die Möglichkeit\, die eigene Stimme als Ausdrucksmöglichkeit der Seele und des Glaubens zu erleben. Gesang kann in einen Raum führen\, den wir Menschen als heilig und heilend empfinden. Wir betreten dann den Raum unserer tiefsten Zugehörigkeit – mit allem Lebendigen\, mit der Schöpfung. Vor jedem Klang steht jedoch die Stille und so sind Zeiten der Kontemplation ein weiteres Element dieses Seminars\, bevor wir aus dem Lauschen heraus wieder eintauchen in die Fülle der Töne. Gesungen werden schnell zu erlernende geistliche Kanons und Gesänge aus dem neuen HAGIOS-Zyklus von Helge Burggrabe. Musikalische Vorkenntnisse sind nicht nötig\, jede und jeder ist herzlich willkommen! \n  \nLeitung: Helge Burggrabe \n\nKursbeitrag: 40 Euro pro TeilnehmerIn (in Bar zum Seminar mitzubringen) \n\nAnmeldung: Im Pfarramt der Christuskirche (0512-588471 oder pfarramt@innsbruck-christuskirche.at)\nVeranstalter: Verein Brückenpfeiler\, gemeinsam mit dem OEZ Christuskirche
URL:https://www.sichtbar-evangelisch.at/event/hagios-seminar-mit-helge-bruggrabe/
LOCATION:OEZ Christuskirche Tirol\, Martin-Luther-Platz 1\, Innsbruck\, Tirol\, 6020\, Österreich
ORGANIZER;CN="OEZ Christuskirche":MAILTO:oez@innsbruck-christuskirche.at
END:VEVENT
BEGIN:VEVENT
DTSTART;TZID=Europe/Vienna:20200307T150000
DTEND;TZID=Europe/Vienna:20200307T160000
DTSTAMP:20260425T042715
CREATED:20191226T145006Z
LAST-MODIFIED:20191226T145006Z
UID:5018-1583593200-1583596800@www.sichtbar-evangelisch.at
SUMMARY:Kirche Kunterbunt - mit Michael Fritsch
DESCRIPTION:Weil Welt und Glaube so bunt und vielfältig sind\, gibt es  Kirche Kunterbunt\nmit Experimenten für Kinder: \n„Der Schöpfung auf der Spur“. Es wird geforscht und gestaunt\, es ist originell und kreativ und\nes wird auf eine ganz besondere Weise gefeiert. \n  \nUm Anmeldung wird gebeten unter: \nMichael Fritsch: 0650 / 305 19 96 oder unter –\nAndrea Petritsch: 0699 / 188 77 524
URL:https://www.sichtbar-evangelisch.at/event/kirche-kunterbunt-mit-michael-fritsch-3/
LOCATION:Gemeindezentrum Schwaz\, Franz-Joseph-Str. 7\, Schwaz\, Tirol\, 6130\, Österreich
ORGANIZER;CN="Pfarrgemeinde Jenbach":MAILTO:jenbach@evang.at
END:VEVENT
BEGIN:VEVENT
DTSTART;TZID=Europe/Vienna:20200307T193000
DTEND;TZID=Europe/Vienna:20200307T213000
DTSTAMP:20260425T042715
CREATED:20200115T085305Z
LAST-MODIFIED:20200115T085418Z
UID:5077-1583609400-1583616600@www.sichtbar-evangelisch.at
SUMMARY:HAGIOS: Liederabend mit Helge Bruggrabe
DESCRIPTION:Der HAGIOS-Liederabend ist ein Mitsing-Projekt\, das von kontemplativer Stille bis zu kraftvollem\, vielstimmigem Gesang reicht.\nEs braucht dazu nur die eigene Stimme und die Vorfreude auf das Erlebnis\, gemeinsam mit vielen anderen Menschen die Christuskirche in einen großen Klangraum zu verwandeln.\nGesungen werden schnell zu erlernende geistliche Kanons und Gesänge aus dem erweiterten HAGIOS-Liederzyklus von Helge Burggrabe\, ergänzt von Liedern aus der Tradition von Taizé. \nHelge Burggrabe realisierte bereits viele innovative Kulturprojekte in großen Sakralräumen\, unter anderem in der Kathedrale von Chartres\, in der Dresdner Frauenkirche oder auch im Kölner Dom. Mit dem Projekt „HAGIOS – Gesungenes Gebet“ verfolgt er jedoch die Idee\, dass jeder Mensch singen kann: „Das Singen ist die eigentliche Muttersprache aller Menschen“ (Yehudi Menuhin). In diesem Sinne steht nicht die Perfektion\, sondern die Freude am gemeinsamen Gesang im Mittelpunkt: \nJede und jeder ist herzlich willkommen\, es gibt an diesen Abenden keine falschen Töne! \n  \nKeine Anmeldung erforderlich |\nSpenden-Empfehlung: 10-15 Euro pro Person\, Kinder und Jugendliche frei \nVeranstalter: Verein Brückenpfeiler\, gemeinsam mit dem OEZ Christuskirche \n  \n 
URL:https://www.sichtbar-evangelisch.at/event/hagios-liederabend-mit-helge-bruggrabe/
LOCATION:OEZ Christuskirche Tirol\, Martin-Luther-Platz 1\, Innsbruck\, Tirol\, 6020\, Österreich
ATTACH;FMTTYPE=image/jpeg:https://www.sichtbar-evangelisch.at/wp-content/uploads/2020/01/HAGIOS-Liederabend.jpg
ORGANIZER;CN="OEZ Christuskirche":MAILTO:oez@innsbruck-christuskirche.at
END:VEVENT
END:VCALENDAR