BEGIN:VCALENDAR
VERSION:2.0
PRODID:-//Evangelische Kirche - ECPv6.3.5//NONSGML v1.0//EN
CALSCALE:GREGORIAN
METHOD:PUBLISH
X-ORIGINAL-URL:https://www.sichtbar-evangelisch.at
X-WR-CALDESC:Veranstaltungen für Evangelische Kirche
REFRESH-INTERVAL;VALUE=DURATION:PT1H
X-Robots-Tag:noindex
X-PUBLISHED-TTL:PT1H
BEGIN:VTIMEZONE
TZID:Europe/Vienna
BEGIN:DAYLIGHT
TZOFFSETFROM:+0100
TZOFFSETTO:+0200
TZNAME:CEST
DTSTART:20200329T010000
END:DAYLIGHT
BEGIN:STANDARD
TZOFFSETFROM:+0200
TZOFFSETTO:+0100
TZNAME:CET
DTSTART:20201025T010000
END:STANDARD
END:VTIMEZONE
BEGIN:VEVENT
DTSTART;TZID=Europe/Vienna:20200227T193000
DTEND;TZID=Europe/Vienna:20200227T210000
DTSTAMP:20260425T042635
CREATED:20200226T073200Z
LAST-MODIFIED:20200313T085727Z
UID:5377-1582831800-1582837200@www.sichtbar-evangelisch.at
SUMMARY:El Theater "Der Weibsteufel" - abgesagt!
DESCRIPTION:frei nach Texten von Karl Schönherr \nRegie: Kurt Schwaiger \n  \nKartenvorverkauf: € 10\,00\nAbendkasse: € 12\,00 \nKartenreservierung unter: 0650 / 39 011 38
URL:https://www.sichtbar-evangelisch.at/event/el-theater-der-weibsteufel/2020-02-27/
LOCATION:Pfarrgemeinde Hallein\, Davisstraße 38\, Hallein\, Salzburg\, 5400\, Österreich
ORGANIZER;CN="Pfarrgemeinde Hallein":MAILTO:evang.hallein@sbg.at
END:VEVENT
END:VCALENDAR