BEGIN:VCALENDAR
VERSION:2.0
PRODID:-//Evangelische Kirche - ECPv6.3.5//NONSGML v1.0//EN
CALSCALE:GREGORIAN
METHOD:PUBLISH
X-ORIGINAL-URL:https://www.sichtbar-evangelisch.at
X-WR-CALDESC:Veranstaltungen für Evangelische Kirche
REFRESH-INTERVAL;VALUE=DURATION:PT1H
X-Robots-Tag:noindex
X-PUBLISHED-TTL:PT1H
BEGIN:VTIMEZONE
TZID:Europe/Vienna
BEGIN:DAYLIGHT
TZOFFSETFROM:+0100
TZOFFSETTO:+0200
TZNAME:CEST
DTSTART:20200329T010000
END:DAYLIGHT
BEGIN:STANDARD
TZOFFSETFROM:+0200
TZOFFSETTO:+0100
TZNAME:CET
DTSTART:20201025T010000
END:STANDARD
END:VTIMEZONE
BEGIN:VEVENT
DTSTART;TZID=Europe/Vienna:20200323T173000
DTEND;TZID=Europe/Vienna:20200323T180000
DTSTAMP:20260424T135325
CREATED:20200217T090901Z
LAST-MODIFIED:20200323T095036Z
UID:5274-1584984600-1584986400@www.sichtbar-evangelisch.at
SUMMARY:Gebet für Freiheit und Würde - Abschiebungen nach Afghanistan?
DESCRIPTION:Afghanistan ist eines der unsichersten und ärmsten Länder der\nWelt. Seit über vierzig Jahren zerreißen kriegerische\nAuseinandersetzungen den Staat und die Gesellschaft. Auch der\nWesten trägt für die Befeuerung des Krieges Verantwortung.\nMillionen von Afghaninnen und Afghanen mussten in den letzten\nJahrzehnten ihre Heimat verlassen. Nur ein Bruchteil der\nVertriebenen kam und kommt nach Europa\, die meisten bleiben\nin den Nachbarländern Iran und Pakistan. Im Gegensatz zu\nanderen europäischen Staaten schiebt Österreich nach wie vor\nSchutzsuchende nach Afghanistan ab.\nAbschiebungen in derartig von Krieg und Terror zerstörte Länder\nerachten wir als menschenrechtswidrig und als ein\nArmutszeugnis für unser Land.\nMit unserem Gebet möchten wir ein öffentliches Zeichen für\nFreiheit und Würde setzen sowie unsere Ohnmacht und Sorge um\nMenschen vor Gott bringen. \nZur Zeit können wir zum Beten nicht nahe beieinander sein. Beten wir es aber dennoch gemeinsam – jede und jeder an ihrem oder seinem Ort.
URL:https://www.sichtbar-evangelisch.at/event/gebet-fuer-freiheit-und-wuerde-abschiebungen-nach-afghanistan-2/2020-03-23/
CATEGORIES:Allgemeine Veranstaltungen
END:VEVENT
END:VCALENDAR